BEGIN:VCALENDAR
VERSION:2.0
PRODID:-//ChamberMaster//Event Calendar 2.0//EN
METHOD:PUBLISH
X-PUBLISHED-TTL:P3D
REFRESH-INTERVAL:P3D
CALSCALE:GREGORIAN
BEGIN:VEVENT
DTSTART:20260120T193000Z
DTEND:20260120T200000Z
X-MICROSOFT-CDO-ALLDAYEVENT:FALSE
SUMMARY:Ribbon Cutting for Stahl Medical
DESCRIPTION:Join us for a ribbon cutting celebrating Stahl Medical!\n\n\n\nStahl Medical is a science-driven wellness practice that blends evidence-based medicine with aesthetics and lifestyle medicine to help clients enhance their health\, confidence\, and longevity. Their personalized approach focuses on comprehensive care tailored to each individual's needs\, offering services such as medically supervised weight-loss programs\, hormone optimization\, advanced diagnostics\, executive health assessments\, and non-invasive aesthetic treatments. By combining trusted medical expertise with a long-term commitment to prevention and well-being\, Stahl Medical aims to support patients in achieving lasting health and quality of life improvements.\n\n\n\nWEBSITE: Stahl Medical\n\nPHONE: (830) 331-9797\n\nLOCATION: 112 Herff Rd. #110\, Boerne\, TX. 78006
X-ALT-DESC;FMTTYPE=text/html:<span style="color:#000000\;"><span style="font-size:14px\;"><span style="font-family:arial\;">Join us for a ribbon cutting celebrating Stahl Medical!</span></span><br />\n<br />\n<span style="font-size:14px\;"><span style="font-family:arial\;">Stahl Medical is a science-driven wellness practice that blends evidence-based medicine with aesthetics and lifestyle medicine to help clients enhance their health\, confidence\, and longevity. Their personalized approach focuses on comprehensive care tailored to each individual&rsquo\;s needs\, offering services such as medically supervised weight-loss programs\, hormone optimization\, advanced diagnostics\, executive health assessments\, and non-invasive aesthetic treatments. By combining trusted medical expertise with a long-term commitment to prevention and well-being\, Stahl Medical aims to support patients in achieving lasting health and quality of life improvements.</span></span></span><br />\n<br />\n<span style="font-size:14px\;"><span style="font-family:arial\;"><span style="color:#000000\;">WEBSITE:&nbsp\;</span></span></span><a href="https://www.stahlmedical.com/">Stahl Medical</a><br />\n<span style="font-size:14px\;"><span style="font-family:arial\;"><span style="color:#000000\;">PHONE: (830) 331-9797<br />\nLOCATION: 112 Herff Rd. #110\, Boerne\, TX. 78006</span></span></span><br />\n<br />\n<br />\n<br />\n<br />\n<br />\n<br />\n&nbsp\;
LOCATION:Stahl Medical 112 Herff Rd.\, #110 Boerne\, TX 78006
UID:e.187.32144
SEQUENCE:3
DTSTAMP:20260420T033942Z
URL:https://business.boerne.org/events/details/ribbon-cutting-for-stahl-medical-32144
END:VEVENT

END:VCALENDAR
