BEGIN:VCALENDAR
VERSION:2.0
PRODID:-//ChamberMaster//Event Calendar 2.0//EN
METHOD:PUBLISH
X-PUBLISHED-TTL:P3D
REFRESH-INTERVAL:P3D
CALSCALE:GREGORIAN
BEGIN:VEVENT
DTSTART:20251204T193000Z
DTEND:20251204T200000Z
X-MICROSOFT-CDO-ALLDAYEVENT:FALSE
SUMMARY:Ribbon Cutting for Southwest Children's Center
DESCRIPTION:Join us for a ribbon cutting celebrating Southwest Children's Center Hill Country!\n\n\n\nSouthwest Children's Center Hill Country provides comprehensive pediatric care to families in Boerne\, Leon Springs\, Fair Oaks\, and surrounding areas. As part of a respected practice serving the region since 1977\, the Hill Country office offers well-child visits\, sick-child appointments (including same-day care)\, immunizations\, online scheduling\, and telemedicine services. The clinic's team includes board-certified pediatricians and experienced medical staff who are committed to providing personalized\, current\, high-quality care. In addition to primary care\, the practice provides specialized services such as asthma management\, behavioral and mental health care\, sports physicals\, and even minor procedures like ear piercing. Their Hill Country location offers convenient access to an award winning pediatric clinic and is open Monday through Friday.\n\n\n\nWEBSITE: Best Pediatrician | Southwest Children's Clinic | San Antonio\, TX\n\nPHONE: (210) 614-8687\n\nLOCATION: 7903 Calle Rialto\, San Antonio\, TX. 78249
X-ALT-DESC;FMTTYPE=text/html:<span style="color:#000000\;">Join us for a ribbon cutting celebrating Southwest Children&#39\;s Center Hill Country!<br />\n<br />\nSouthwest Children&rsquo\;s Center&nbsp\;<strong data-end="67" data-start="30">Hill Country</strong><strong data-end="67" data-start="30">&nbsp\;</strong>provides comprehensive pediatric care to families in Boerne\, Leon Springs\, Fair Oaks\, and surrounding areas. As part of a respected practice serving the region since 1977\, the Hill Country office offers well-child visits\, sick-child appointments (including same-day care)\, immunizations\, online scheduling\, and telemedicine services. The clinic&rsquo\;s team includes board-certified pediatricians and experienced medical staff who are committed to providing personalized\, current\, high-quality care.&nbsp\;In addition to primary care\, the practice provides specialized services such as asthma management\, behavioral and mental health care\, sports physicals\, and even minor procedures like ear piercing.&nbsp\;Their Hill Country location offers convenient access to an award winning pediatric clinic and is open Monday through Friday.<br />\n<br />\nWEBSITE:&nbsp\;</span><a href="https://southwestchildrenscenter.com/"><span style="color:#000000\;">Best Pediatrician | Southwest Children&#39\;s Clinic | San Antonio\, TX</span></a><br />\n<span style="color:#000000\;">PHONE: (210) 614-8687<br />\nLOCATION: 7903 Calle Rialto\, San Antonio\, TX. 78249</span><br />\n<br />\n<br />\n&nbsp\;
LOCATION:Southwest Children's Center Hill Country 7903 Calle Rialto San Antonio\, TX. 78249
UID:e.187.31983
SEQUENCE:3
DTSTAMP:20260420T020451Z
URL:https://business.boerne.org/events/details/ribbon-cutting-for-southwest-children-s-center-31983
END:VEVENT

END:VCALENDAR
