BEGIN:VCALENDAR
VERSION:2.0
PRODID:-//ChamberMaster//Event Calendar 2.0//EN
METHOD:PUBLISH
X-PUBLISHED-TTL:P3D
REFRESH-INTERVAL:P3D
CALSCALE:GREGORIAN
BEGIN:VEVENT
DTSTART:20180301T223000Z
DTEND:20180301T230000Z
X-MICROSOFT-CDO-ALLDAYEVENT:FALSE
SUMMARY:Ribbon Cutting for Sonora Mortgage
DESCRIPTION:Come join us for a Ribbon Cutting Ceremony for Sonora Mortgage. (link)
X-ALT-DESC;FMTTYPE=text/html:Come join us for a Ribbon Cutting Ceremony for Sonora Mortgage. (link)
LOCATION:Sonora Mortgage 101 Woods of Boerne Blvd\, Ste. 100 Boerne\, TX 78006
UID:e.187.13543
SEQUENCE:3
DTSTAMP:20260422T120731Z
URL:https://business.boerne.org/events/details/ribbon-cutting-for-sonora-mortgage-13543
END:VEVENT

END:VCALENDAR
