BEGIN:VCALENDAR
VERSION:2.0
PRODID:-//ChamberMaster//Event Calendar 2.0//EN
METHOD:PUBLISH
X-PUBLISHED-TTL:P3D
REFRESH-INTERVAL:P3D
CALSCALE:GREGORIAN
BEGIN:VEVENT
DTSTART:20181016T163000Z
DTEND:20181016T170000Z
X-MICROSOFT-CDO-ALLDAYEVENT:FALSE
SUMMARY:Ribbon Cutting for Smoke in the Hills New Kitchen
DESCRIPTION:Come join us for the ribbon cutting ceremony for Smoke in the Hills' New Kitchen
X-ALT-DESC;FMTTYPE=text/html:Come join us for the ribbon cutting ceremony for Smoke in the Hills&#39\; New Kitchen
LOCATION:31 Walnut Grove Boerne\, TX 78006
UID:e.187.14884
SEQUENCE:3
DTSTAMP:20260420T013712Z
URL:https://business.boerne.org/events/details/ribbon-cutting-for-smoke-in-the-hills-new-kitchen-14884
END:VEVENT

END:VCALENDAR
