BEGIN:VCALENDAR
VERSION:2.0
PRODID:-//ChamberMaster//Event Calendar 2.0//EN
METHOD:PUBLISH
X-PUBLISHED-TTL:P3D
REFRESH-INTERVAL:P3D
CALSCALE:GREGORIAN
BEGIN:VEVENT
DTSTART:20190917T163000Z
DTEND:20190917T170000Z
X-MICROSOFT-CDO-ALLDAYEVENT:FALSE
SUMMARY:Ribbon Cutting for Signarama NW San Antonio
DESCRIPTION:Join us for a ribbon cutting celebrating Signarama San Antonio NW!
X-ALT-DESC;FMTTYPE=text/html:Join us for a ribbon cutting celebrating Signarama San Antonio NW!
LOCATION:12651 Vance Jackson Rd\, Ste 118 San Antonio\, TX 78230
UID:e.187.16739
SEQUENCE:3
DTSTAMP:20260419T175518Z
URL:https://business.boerne.org/events/details/ribbon-cutting-for-signarama-nw-san-antonio-16739
END:VEVENT

END:VCALENDAR
