BEGIN:VCALENDAR
VERSION:2.0
PRODID:-//ChamberMaster//Event Calendar 2.0//EN
METHOD:PUBLISH
X-PUBLISHED-TTL:P3D
REFRESH-INTERVAL:P3D
CALSCALE:GREGORIAN
BEGIN:VEVENT
DTSTART:20181023T163000Z
DTEND:20181023T170000Z
X-MICROSOFT-CDO-ALLDAYEVENT:FALSE
SUMMARY:Ribbon Cutting for Sigma Mental Health Urgent Care
DESCRIPTION:Join us for a Ribbon Cutting at Sigma Mental Health Urgent Care!
X-ALT-DESC;FMTTYPE=text/html:Join us for a Ribbon Cutting at Sigma Mental Health Urgent Care!
LOCATION:1201 S. Main St.\, Ste. 101 Boerne\, TX 78006
UID:e.187.15119
SEQUENCE:3
DTSTAMP:20260420T030025Z
URL:https://business.boerne.org/events/details/ribbon-cutting-for-sigma-mental-health-urgent-care-15119
END:VEVENT

END:VCALENDAR
