BEGIN:VCALENDAR
VERSION:2.0
PRODID:-//ChamberMaster//Event Calendar 2.0//EN
METHOD:PUBLISH
X-PUBLISHED-TTL:P3D
REFRESH-INTERVAL:P3D
CALSCALE:GREGORIAN
BEGIN:VEVENT
DTSTART:20191217T173000Z
DTEND:20191217T180000Z
X-MICROSOFT-CDO-ALLDAYEVENT:FALSE
SUMMARY:Ribbon Cutting for Seth Hanson with ID Life
DESCRIPTION:Join us for a ribbon cutting celebrating Seth Hanson with ID Life!\n\n\n\nIDLife is a premier health and wellness company offering world-class energy\, weight-loss\, nutrition\, and sports performance products along with a rewarding business opportunity for those interested.
X-ALT-DESC;FMTTYPE=text/html:Join us for a ribbon cutting celebrating Seth Hanson with ID Life!<br />\n<br />\nIDLife is a premier health and wellness company offering world-class energy\, weight-loss\, nutrition\, and sports performance products along with a rewarding business opportunity for those interested.
LOCATION:Paramount Taekwondo Center 1415 E. Blanco Rd. Boerne\, TX 78006
UID:e.187.17138
SEQUENCE:3
DTSTAMP:20260425T215127Z
URL:https://business.boerne.org/events/details/ribbon-cutting-for-seth-hanson-with-id-life-17138
END:VEVENT

END:VCALENDAR
