BEGIN:VCALENDAR
VERSION:2.0
PRODID:-//ChamberMaster//Event Calendar 2.0//EN
METHOD:PUBLISH
X-PUBLISHED-TTL:P3D
REFRESH-INTERVAL:P3D
CALSCALE:GREGORIAN
BEGIN:VEVENT
DTSTART:20190402T163000Z
DTEND:20190402T170000Z
X-MICROSOFT-CDO-ALLDAYEVENT:FALSE
SUMMARY:Ribbon Cutting for Sean Seamster with Edward Jones
DESCRIPTION:Join us for a ribbon cutting ceremony celebrating Sean Seamster\, Financial Advisor with Edward Jones!
X-ALT-DESC;FMTTYPE=text/html:Join us for a ribbon cutting ceremony celebrating Sean Seamster\, Financial Advisor with Edward Jones!
LOCATION:138 Old San Antonio Rd.\, Ste. 203 Boerne\, TX 78006
UID:e.187.16325
SEQUENCE:3
DTSTAMP:20260419T161141Z
URL:https://business.boerne.org/events/details/ribbon-cutting-for-sean-seamster-with-edward-jones-16325
END:VEVENT

END:VCALENDAR
