BEGIN:VCALENDAR
VERSION:2.0
PRODID:-//ChamberMaster//Event Calendar 2.0//EN
METHOD:PUBLISH
X-PUBLISHED-TTL:P3D
REFRESH-INTERVAL:P3D
CALSCALE:GREGORIAN
BEGIN:VEVENT
DTSTART:20251202T173000Z
DTEND:20251202T180000Z
X-MICROSOFT-CDO-ALLDAYEVENT:FALSE
SUMMARY:Ribbon Cutting for Scott Felder Homes' Windsong Community
DESCRIPTION:Join us for a ribbon cutting celebrating Scott Felder Homes' Windsong Community!\n\n\n\nWelcome to the grand opening of Windsong\, a vibrant new community brought to life by Scott Felder Homes and David Weekly Homes. Nestled at 9972 Aurora Hill St\, Windsong offers 3 to 6-bedroom homes ranging from approximately 1\,780 to 3\,550 sq ft\, in thoughtfully designed one- and two-story floor plans. Residents enjoy access to community amenities such as trails\, a park and playground\, and top-rated local schools including Wilson Elementary\, Boerne Middle School South and Boerne Samuel V. Champion High School. Whether you're seeking a comfortable pace\, modern home design\, or easy access to everything Boerne has to offer\, Windsong presents a warm\, welcoming environment for families and individuals alike.\n\n\n\nWEBSITE: Windsong | Boerne New Home Community\n\nPHONE: (210) 926-5666\n\nLOCATION: 9972 Aurora Hill St.\, Boerne\, TX. 78006
X-ALT-DESC;FMTTYPE=text/html:<span style="color:#000000\;"><font face="arial"><span style="font-size: 14px\;">Join us for a ribbon cutting celebrating Scott Felder Homes&#39\; Windsong Community!</span></font><br />\n<br />\nWelcome to the grand opening of Windsong\, a vibrant new community brought to life by Scott Felder Homes and David Weekly Homes. Nestled at 9972 Aurora Hill St\, Windsong offers 3 to 6-bedroom homes ranging from approximately 1\,780 to 3\,550 sq ft\, in thoughtfully designed one- and two-story floor plans.&nbsp\;Residents enjoy access to community amenities such as trails\, a park and playground\, and top-rated local schools including Wilson Elementary\, Boerne Middle School South and Boerne Samuel V. Champion High School. Whether you&rsquo\;re seeking a comfortable pace\, modern home design\, or easy access to everything Boerne has to offer\, Windsong presents a warm\, welcoming environment for families and individuals alike.</span><br />\n<br />\n<span style="color:#000000\;"><span style="font-size:14px\;"><span style="font-family:arial\;">WEBSITE:&nbsp\;</span></span></span><a href="https://www.scottfelderhomes.com/communities/san-antonio-area/boerne/windsong">Windsong | Boerne New Home Community</a><br />\n<span style="color:#000000\;"><span style="font-size:14px\;"><span style="font-family:arial\;">PHONE: (210) 926-5666<br />\nLOCATION: </span></span>9972 Aurora Hill St.<span style="font-size:14px\;"><span style="font-family:arial\;">\, Boerne\, TX. 78006</span></span></span><br />\n&nbsp\;
LOCATION:Windsong 9972 Aurora Hill St. Boerne\, TX. 78006
UID:e.187.31974
SEQUENCE:3
DTSTAMP:20260420T020413Z
URL:https://business.boerne.org/events/details/ribbon-cutting-for-scott-felder-homes-windsong-community-31974
END:VEVENT

END:VCALENDAR
