BEGIN:VCALENDAR
VERSION:2.0
PRODID:-//ChamberMaster//Event Calendar 2.0//EN
METHOD:PUBLISH
X-PUBLISHED-TTL:P3D
REFRESH-INTERVAL:P3D
CALSCALE:GREGORIAN
BEGIN:VEVENT
DTSTART:20180322T183000Z
DTEND:20180322T190000Z
X-MICROSOFT-CDO-ALLDAYEVENT:FALSE
SUMMARY:Ribbon Cutting for Scott Felder Homes
DESCRIPTION:Come join us for a Ribbon Cutting Ceremony for Scott Felder Homes. (link)
X-ALT-DESC;FMTTYPE=text/html:Come join us for a Ribbon Cutting Ceremony for Scott Felder Homes. (<a href="http://www.scottfelderhomes.com/">link</a>)
LOCATION:Scott Felder Homes (Model home in Esperanza map) 103 Palisades Boerne\, TX 78006
UID:e.187.13551
SEQUENCE:3
DTSTAMP:20260422T120728Z
URL:https://business.boerne.org/events/details/ribbon-cutting-for-scott-felder-homes-13551
END:VEVENT

END:VCALENDAR
