BEGIN:VCALENDAR
VERSION:2.0
PRODID:-//ChamberMaster//Event Calendar 2.0//EN
METHOD:PUBLISH
X-PUBLISHED-TTL:P3D
REFRESH-INTERVAL:P3D
CALSCALE:GREGORIAN
BEGIN:VEVENT
DTSTART:20191121T173000Z
DTEND:20191121T180000Z
X-MICROSOFT-CDO-ALLDAYEVENT:FALSE
SUMMARY:Ribbon Cutting for Safeguard Business System/Texas Premier
DESCRIPTION:Join us for a ribbon cutting celebrating Safeguard Business System/Texas Premier!\n\n\n\nAt Safeguard\, they offer many resources to improve your day-to-day operational business challenges so that your team is more productive. In addition\, Safeguard's deep expertise in marketing uses a one-of-a-kind approach in taking your competitive uniqueness into the marketplace.
X-ALT-DESC;FMTTYPE=text/html:Join us for a ribbon cutting celebrating Safeguard Business System/Texas Premier!<br />\n<br />\nAt Safeguard\, they offer many resources to improve your day-to-day operational business challenges so that your team is more productive. In addition\, Safeguard&#39\;s deep expertise in marketing uses a one-of-a-kind approach in taking your competitive uniqueness into the marketplace.
LOCATION:Boerne Chamber of Commerce Boardroom 121 S. Main St. Boerne\, TX 78006
UID:e.187.16816
SEQUENCE:3
DTSTAMP:20260419T223357Z
URL:https://business.boerne.org/events/details/ribbon-cutting-for-safeguard-business-system-texas-premier-16816
END:VEVENT

END:VCALENDAR
