BEGIN:VCALENDAR
VERSION:2.0
PRODID:-//ChamberMaster//Event Calendar 2.0//EN
METHOD:PUBLISH
X-PUBLISHED-TTL:P3D
REFRESH-INTERVAL:P3D
CALSCALE:GREGORIAN
BEGIN:VEVENT
DTSTART:20230109T143000Z
DTEND:20230109T150000Z
X-MICROSOFT-CDO-ALLDAYEVENT:FALSE
SUMMARY:Ribbon Cutting for Ryoak Real Estate Group's Grand Opening for new Development
DESCRIPTION:Join us for a ribbon cutting celebrating Ryoak Real Estate Group's Grand Opening of their new Chevron Gas Station\, Halftime convenience store and shopping center in Bergheim\, Texas. \n\n\n\nThis new development in Bergheim includes a Chevron Gas Station\, a Halftime convenience store and The Cup\, a new coffee shop in the shopping center. The Cup will be ran and supported by the Bergheim Christian Fellowship Church. The ribbon cutting and grand opening ceremony will be held on Monday\, January 9th at 8:30am. Come over and join us as we celebrate with the Boerne Kendall County Economic Development Corporation. A portion of all proceeds from the c-store will be going to the Wounded Warrior Foundation and Chevron will be matching dollar for dollar in Ryoak's giving. Want to learn more about the development? Stop by and check it out at 919 E. State Highway 46 Bergheim\, TX 78004 or give James\, owner of Ryoak Real Estate a call at 281-222-2932.
X-ALT-DESC;FMTTYPE=text/html:<span style="font-size:14px\;"><span style="font-family:arial\;">Join us for a ribbon cutting celebrating Ryoak Real Estate Group&#39\;s Grand Opening of their new Chevron Gas Station\, Halftime convenience store and shopping center in Bergheim\, Texas.&nbsp\;<br />\n<br />\nThis new development in Bergheim includes a Chevron Gas Station\, a Halftime convenience store and The Cup\, a new coffee shop in the shopping center. The Cup will be ran and supported by the Bergheim Christian Fellowship Church. The ribbon cutting and grand opening ceremony will be held on Monday\, January 9th at 8:30am. Come over and join us as we celebrate with the Boerne Kendall County Economic Development Corporation. A portion of all proceeds from the c-store will be going to the Wounded Warrior Foundation and Chevron will be matching dollar for dollar in Ryoak&#39\;s giving. Want to learn more about the development? Stop by and check it out at 919 E. State Highway 46 Bergheim\, TX 78004 or give James\, owner of Ryoak Real Estate a call at 281-222-2932.&nbsp\;</span></span>
LOCATION:Chevron Gas Station 919 E. State Highway 46 Bergheim\, TX. 78004
UID:e.187.20735
SEQUENCE:3
DTSTAMP:20260423T072517Z
URL:https://business.boerne.org/events/details/ribbon-cutting-for-ryoak-real-estate-group-s-grand-opening-for-new-development-20735
END:VEVENT

END:VCALENDAR
