BEGIN:VCALENDAR
VERSION:2.0
PRODID:-//ChamberMaster//Event Calendar 2.0//EN
METHOD:PUBLISH
X-PUBLISHED-TTL:P3D
REFRESH-INTERVAL:P3D
CALSCALE:GREGORIAN
BEGIN:VEVENT
DTSTART:20190625T163000Z
DTEND:20190625T170000Z
X-MICROSOFT-CDO-ALLDAYEVENT:FALSE
SUMMARY:Ribbon Cutting for Rustic Heart Resale and Vintage Treasures
DESCRIPTION:Join us for a ribbon cutting celebrating Rustic Heart Resale and Vintage Treasures!\n\n\n\nRustic Heart specializes in vintage and resale goods\, including home decor\, upcycled items\, clothing\, one-of-a-kind finds\, and features local handcrafted rustic furniture/goods.
X-ALT-DESC;FMTTYPE=text/html:Join us for a ribbon cutting celebrating Rustic Heart Resale and Vintage Treasures!<br />\n<br />\nRustic Heart specializes in vintage and resale goods\, including home decor\, upcycled items\, clothing\, one-of-a-kind finds\, and features local handcrafted rustic furniture/goods.
LOCATION:720 Johns Rd. Boerne\, TX 78006
UID:e.187.16414
SEQUENCE:3
DTSTAMP:20260419T143808Z
URL:https://business.boerne.org/events/details/ribbon-cutting-for-rustic-heart-resale-and-vintage-treasures-16414
END:VEVENT

END:VCALENDAR
