BEGIN:VCALENDAR
VERSION:2.0
PRODID:-//ChamberMaster//Event Calendar 2.0//EN
METHOD:PUBLISH
X-PUBLISHED-TTL:P3D
REFRESH-INTERVAL:P3D
CALSCALE:GREGORIAN
BEGIN:VEVENT
DTSTART:20240926T183000Z
DTEND:20240926T190000Z
X-MICROSOFT-CDO-ALLDAYEVENT:FALSE
SUMMARY:Ribbon Cutting for Rooted Strength
DESCRIPTION:Join us for a ribbon cutting celebrating Rooted Strength!\n\n\n\nRooted Strength is on a mission to empower women to live in unbridled pursuit of their health and fitness goals! They offer 1:1 training\, small group training\, and special series such as prenatal and postpartum training\, and more in the Rooted Strength Studio! Or\, if you're not local to Boerne or have a strenuous schedule\, they offer remote coaching! \n\n\n\nWEBSITE: Rooted Strength Coaching   rootedstrengthcoaching.com   Boerne Texas\n\nPHONE: (830) 708-5583\n\nLOCATION: 529 TX-46 unit B09\, Boerne\, TX 78015
X-ALT-DESC;FMTTYPE=text/html:<span style="color:#000000\;"><font face="arial"><span style="font-size: 14px\;">Join us for a ribbon cutting celebrating Rooted Strength!<br />\n<br />\nRooted Strength is on a mission to empower women to live in unbridled pursuit of their health and fitness goals! They offer 1:1 training\, small group training\, and special series such as prenatal and postpartum training\, and more in the Rooted Strength Studio! Or\, if you&#39\;re not local to Boerne or have a strenuous schedule\, they offer remote coaching!&nbsp\;</span></font><br />\n<br />\n<span style="font-size:14px\;"><span style="font-family:arial\;">WEBSITE:&nbsp\;</span></span></span><a href="https://rootedstrengthcoaching.com/">Rooted Strength Coaching &ndash\; rootedstrengthcoaching.com &ndash\; Boerne Texas</a><br />\n<span style="color:#000000\;"><span style="font-size:14px\;"><span style="font-family:arial\;">PHONE: (830) 708-5583<br />\nLOCATION: 529 TX-46 unit B09\, Boerne\, TX 78015</span></span></span><br />\n<br />\n&nbsp\;
LOCATION:Rooted Strength 529 TX-46 unit B09 Boerne\, TX 78015
UID:e.187.28634
SEQUENCE:3
DTSTAMP:20260419T180910Z
URL:https://business.boerne.org/events/details/ribbon-cutting-for-rooted-strength-28634
END:VEVENT

END:VCALENDAR
