BEGIN:VCALENDAR
VERSION:2.0
PRODID:-//ChamberMaster//Event Calendar 2.0//EN
METHOD:PUBLISH
X-PUBLISHED-TTL:P3D
REFRESH-INTERVAL:P3D
CALSCALE:GREGORIAN
BEGIN:VEVENT
DTSTART:20170822T163000Z
DTEND:20170822T170000Z
X-MICROSOFT-CDO-ALLDAYEVENT:FALSE
SUMMARY:Ribbon Cutting for Rodan and Fields - Shannon Huffman
DESCRIPTION:Come join us for the Ribbon Cutting Ceremony for Rodan and Fields- Shannon Huffman. (link)
X-ALT-DESC;FMTTYPE=text/html:Come join us for the Ribbon Cutting Ceremony for Rodan and Fields- Shannon Huffman. (<a href="https://shannonshuffman.myrandf.com/">link</a>)
LOCATION:Greater Boerne Chamber of Commerce 121 South Main St Boerne\, TX 78006
UID:e.187.11933
SEQUENCE:3
DTSTAMP:20260422T231640Z
URL:https://business.boerne.org/events/details/ribbon-cutting-for-rodan-and-fields-shannon-huffman-11933
END:VEVENT

END:VCALENDAR
