BEGIN:VCALENDAR
VERSION:2.0
PRODID:-//ChamberMaster//Event Calendar 2.0//EN
METHOD:PUBLISH
X-PUBLISHED-TTL:P3D
REFRESH-INTERVAL:P3D
CALSCALE:GREGORIAN
BEGIN:VEVENT
DTSTART:20260318T183000Z
DTEND:20260318T190000Z
X-MICROSOFT-CDO-ALLDAYEVENT:FALSE
SUMMARY:Ribbon Cutting for RiseTech Elevator
DESCRIPTION:Join us for a ribbon cutting celebrating RiseTech Elevators!\n\n\n\nRiseTech Elevator\, LLC is committed to keeping elevators running safely\, efficiently\, and in compliance with all applicable safety codes. We provide routine elevator maintenance\, troubleshooting\, emergency repairs\, and detailed inspections to help prevent unexpected downtime and extend the life of your equipment. Our technicians have experience working with hydraulic and traction elevators in commercial and residential buildings.\n\n\n\nWhether you need ongoing preventative maintenance\, an inspection-ready service plan\, or expert repair support\, RiseTech delivers responsive service and dependable results. From minor adjustments to full elevator modernization projects\, we take pride in providing high-quality workmanship and clear communication every step of the way.\n\n\n\nWEBSITE: Elevator Maintenance & Repair | RiseTech\, LLC | RiseTech\n\nPHONE: (210) 884-5679\n\nLOCATION: 7 Upper Balcones Rd\, TX. 78006
X-ALT-DESC;FMTTYPE=text/html:<span style="font-size:14px\;"><span style="font-family:arial\;"><span style="color:#000000\;">Join us for a ribbon cutting celebrating RiseTech Elevators!</span></span></span><br />\n<br />\n<span style="color:#000000\;">RiseTech Elevator\, LLC is committed to keeping elevators running safely\, efficiently\, and in compliance with all applicable safety codes. We provide routine elevator maintenance\, troubleshooting\, emergency repairs\, and detailed inspections to help prevent unexpected downtime and extend the life of your equipment. Our technicians have experience working with hydraulic and traction elevators in commercial and residential buildings.<br />\n<br />\nWhether you need ongoing preventative maintenance\, an inspection-ready service plan\, or expert repair support\, RiseTech delivers responsive service and dependable results. From minor adjustments to full elevator modernization projects\, we take pride in providing high-quality workmanship and clear communication every step of the way.</span><br />\n<br />\n<span style="font-size:14px\;"><span style="font-family:arial\;"><span style="color:#000000\;">WEBSITE:&nbsp\;</span></span></span><a href="https://risetech1.com/">Elevator Maintenance &amp\; Repair | RiseTech\, LLC | RiseTech</a><br />\n<span style="color:#000000\;"><span style="font-size:14px\;"><span style="font-family:arial\;">PHONE: (210) 884-5679<br />\nLOCATION: 7 Upper Balcones Rd\, TX. 78006</span></span></span><br />\n<br />\n<br />\n<br />\n&nbsp\;
LOCATION:Das Greenhaus 7 Upper Balcones Rd Boerne\, TX. 78006
UID:e.187.32239
SEQUENCE:3
DTSTAMP:20260420T065223Z
URL:https://business.boerne.org/events/details/ribbon-cutting-for-risetech-elevator-32239
END:VEVENT

END:VCALENDAR
