BEGIN:VCALENDAR
VERSION:2.0
PRODID:-//ChamberMaster//Event Calendar 2.0//EN
METHOD:PUBLISH
X-PUBLISHED-TTL:P3D
REFRESH-INTERVAL:P3D
CALSCALE:GREGORIAN
BEGIN:VEVENT
DTSTART:20241017T163000Z
DTEND:20241017T170000Z
X-MICROSOFT-CDO-ALLDAYEVENT:FALSE
SUMMARY:Ribbon Cutting for Reverse Mortgage Authority
DESCRIPTION:Join us for a ribbon cutting celebrating Reverse Mortgage Authority!\n\n\n\nHome is where dreams happen. Melinda Hipp with Reverse Mortgage Authority is dedicated to educating Baby Boomers how a Reverse Mortgage can make their retirement years stress free!\n\n \n\nWEBSITE: Melinda Hipp - Reverse Mortgage Authority (texasreverse.net)\n\nPHONE: (210) 493-7223\n\n\n\n*This ribbon cutting will take place at The Greater Boerne Chamber of Commerce.
X-ALT-DESC;FMTTYPE=text/html:<span style="color:#000000\;"><span style="font-family:arial\;">Join us for a ribbon cutting celebrating Reverse Mortgage Authority!<br />\n<br />\nHome is where dreams happen. Melinda Hipp with Reverse Mortgage Authority is dedicated to educating Baby Boomers how a Reverse Mortgage can make their retirement years stress free!<br />\n&nbsp\;<br />\nWEBSITE:&nbsp\;</span></span><a href="https://texasreverse.net/">Melinda Hipp - Reverse Mortgage Authority (texasreverse.net)</a><br />\n<span style="color:#000000\;"><span style="font-family:arial\;">PHONE: (210) 493-7223<br />\n<br />\n*This ribbon cutting will take place at The Greater Boerne Chamber of Commerce.</span></span><br />\n&nbsp\;
LOCATION:The Greater Boerne Chamber of Commerce 121 S Main St Boerne\, TX. 78006
UID:e.187.28660
SEQUENCE:3
DTSTAMP:20260419T162646Z
URL:https://business.boerne.org/events/details/ribbon-cutting-for-reverse-mortgage-authority-28660
END:VEVENT

END:VCALENDAR
