BEGIN:VCALENDAR
VERSION:2.0
PRODID:-//ChamberMaster//Event Calendar 2.0//EN
METHOD:PUBLISH
X-PUBLISHED-TTL:P3D
REFRESH-INTERVAL:P3D
CALSCALE:GREGORIAN
BEGIN:VEVENT
DTSTART:20250424T163000Z
DTEND:20250424T170000Z
X-MICROSOFT-CDO-ALLDAYEVENT:FALSE
SUMMARY:Ribbon Cutting for Restoration Solutions by Elite
DESCRIPTION:Join us for a ribbon cutting celebrating Restoration Solutions by Elite!\n\n\n\nRestoration Solutions by Elite is here to rebuild homes\, restore lives\, and reinforce our community's resilience. Their restoration services include water damage\, fire\, mold\, insulation replacement\, 24-hour board up service\, pack out and content cleaning\, and so much more. They understand that life can throw unexpected challenges your way\, so they're here to provide reliable and trustworthy restoration services to ease your peace of mind. \n\n\n\nWEBSITE: 24/7 Water Damage Restoration | rsbyelite.com\n\nPHONE: (844) 333-3200\n\nOFFICE LOCATION: 32990 IH 10\, Unit 3\, Boerne\, TX 78006\n\n\n\n**This ribbon cutting will take place at The Greater Boerne Chamber of Commerce
X-ALT-DESC;FMTTYPE=text/html:<span style="color:#000000\;"><font face="arial"><span style="font-size: 14px\;">Join us for a ribbon cutting celebrating Restoration Solutions by Elite!</span></font><br />\n<br />\n<span style="font-size:14px\;"><span style="font-family:arial\;">Restoration Solutions by Elite is here to rebuild homes\, restore lives\, and reinforce our community&#39\;s resilience. Their restoration services include water damage\, fire\, mold\, insulation replacement\, 24-hour board up service\, pack out and content cleaning\, and so much more. They understand that life can throw unexpected challenges your way\, so they&#39\;re here to provide reliable and trustworthy restoration services to ease your peace of mind.&nbsp\;<br />\n<br />\nWEBSITE:&nbsp\;</span></span></span><a href="https://rsbyelite.com/">24/7 Water Damage Restoration | rsbyelite.com</a><br />\n<span style="color:#000000\;"><span style="font-size:14px\;"><span style="font-family:arial\;">PHONE: (844) 333-3200<br />\nOFFICE LOCATION: 32990 IH 10\, Unit 3\, Boerne\, TX 78006</span></span></span><br />\n<br />\n<span style="color:#000000\;">**This ribbon cutting will take place at The Greater Boerne Chamber of Commerce</span>
LOCATION:The Greater Boerne Chamber of Commerce 121 S Main St Boerne\, TX 78006
UID:e.187.29241
SEQUENCE:3
DTSTAMP:20260419T143345Z
URL:https://business.boerne.org/events/details/ribbon-cutting-for-restoration-solutions-by-elite-29241
END:VEVENT

END:VCALENDAR
