BEGIN:VCALENDAR
VERSION:2.0
PRODID:-//ChamberMaster//Event Calendar 2.0//EN
METHOD:PUBLISH
X-PUBLISHED-TTL:P3D
REFRESH-INTERVAL:P3D
CALSCALE:GREGORIAN
BEGIN:VEVENT
DTSTART:20230117T193000Z
DTEND:20230117T200000Z
X-MICROSOFT-CDO-ALLDAYEVENT:FALSE
SUMMARY:Ribbon Cutting for Random Hangers Thrift Shop & Warehouse
DESCRIPTION:Join us for a ribbon cutting celebrating Random Hangers Thrift Shop & Warehouse!\n\n\n\nRandom Hangers Thrift Shop & Warehouse is an upscale resale shop tucked in an unexpected location here in Boerne! The team carefully selects items for the stores to ensure that excellent quality merchandise and modern styles are available at all times. New merchandise is available daily\, so no two days are the same! From designer clothing and accessories to household items and art\, there's a wide array of items to shop through! When you shop or donate\, you help families in crisis in Kendall County. The sale of items in the shop helps Hill Country Family Services generate funds to purchase food and underwrite family emergency assistance services. To see their hours\, donation info and more\, check out their website here!
X-ALT-DESC;FMTTYPE=text/html:<span style="font-size:14px\;"><span style="font-family:arial\;">Join us for a ribbon cutting celebrating Random Hangers Thrift Shop &amp\; Warehouse!<br />\n<br />\nRandom Hangers Thrift Shop &amp\; Warehouse is an upscale resale shop tucked in an unexpected location here in Boerne! The team carefully selects items for the stores to ensure that excellent quality merchandise and modern styles are available at all times. New merchandise is available daily\, so no two days are the same! From designer clothing and accessories to household items and art\, there&#39\;s a wide array of items to shop through! When you shop or donate\, you help families in crisis in Kendall County. The sale of items in the shop helps Hill Country Family Services generate funds to purchase food and underwrite family emergency assistance services. To see their hours\, donation info and more\, check out their <a href="https://www.hcfstx.org/hcfs-thrift-shop/">website here!</a></span></span>
LOCATION:Random Hangers Thrift Shop & Warehouse 114 W Advogt St. Boerne\, TX. 78006
UID:e.187.20680
SEQUENCE:3
DTSTAMP:20260423T072436Z
URL:https://business.boerne.org/events/details/ribbon-cutting-for-random-hangers-thrift-shop-warehouse-20680
END:VEVENT

END:VCALENDAR
