BEGIN:VCALENDAR
VERSION:2.0
PRODID:-//ChamberMaster//Event Calendar 2.0//EN
METHOD:PUBLISH
X-PUBLISHED-TTL:P3D
REFRESH-INTERVAL:P3D
CALSCALE:GREGORIAN
BEGIN:VEVENT
DTSTART:20251204T173000Z
DTEND:20251204T180000Z
X-MICROSOFT-CDO-ALLDAYEVENT:FALSE
SUMMARY:Ribbon Cutting for R&R Glass and Mirror
DESCRIPTION:Join us for a ribbon cutting celebrating R&R Glass and Mirror!\n\n\n\nR&R Glass and Mirror is a locally owned glass and mirror company based in Boerne\, Texas. They specialize in custom glass design and installations\, serving both residential and commercial clients. Their services include shower enclosures\, glass railing systems\, office partitions\, bathroom and gym mirrors\, table tops\, and window glass. With years of experience\, the team is known for high-quality workmanship\, precise cutting\, and thoughtful attention to each client's vision and needs.\n \nWEBSITE: R&R Glass And Mirror\n\nPHONE: (830) 331-9296\n\nLOCATION: 111 Industrial Dr.\, Suite 4\, Boerne\, TX. 78006
X-ALT-DESC;FMTTYPE=text/html:<span style="font-family:arial\;"><span style="color:#000000\;">Join us for a ribbon cutting celebrating R&amp\;R Glass and Mirror!<br />\n<br />\nR&amp\;R Glass and Mirror is a locally owned glass and mirror company based in Boerne\, Texas. They specialize in custom glass design and installations\, serving both residential and commercial clients. Their services include shower enclosures\, glass railing systems\, office partitions\, bathroom and gym mirrors\, table tops\, and window glass. With years of experience\, the team is known for high-quality workmanship\, precise cutting\, and thoughtful attention to each client&rsquo\;s vision and needs.</span></span>\n<p style="margin:0in">&nbsp\;</p>\n<span style="font-family:arial\;"><span style="color:#000000\;">WEBSITE:&nbsp\;</span></span><a href="https://rrglassofboerne.com/">R&amp\;R Glass And Mirror</a><br />\n<span style="font-family:arial\;"><span style="color:#000000\;">PHONE: (830) 331-9296<br />\nLOCATION: 111 Industrial Dr.\, Suite 4\, Boerne\, TX. 78006</span></span>
LOCATION:R&R Glass and Mirror 111 Industrial Dr.\, Suite 4 Boerne\, TX. 78006
UID:e.187.31982
SEQUENCE:3
DTSTAMP:20260420T020337Z
URL:https://business.boerne.org/events/details/ribbon-cutting-for-r-r-glass-and-mirror-31982
END:VEVENT

END:VCALENDAR
