BEGIN:VCALENDAR
VERSION:2.0
PRODID:-//ChamberMaster//Event Calendar 2.0//EN
METHOD:PUBLISH
X-PUBLISHED-TTL:P3D
REFRESH-INTERVAL:P3D
CALSCALE:GREGORIAN
BEGIN:VEVENT
DTSTART:20170228T173000Z
DTEND:20170228T180000Z
X-MICROSOFT-CDO-ALLDAYEVENT:FALSE
SUMMARY:Ribbon Cutting for Quick Account Services\, LLC
DESCRIPTION:Come join us for a Ribbon Cutting Ceremony for Quick Account Services\, LLC. (link)
X-ALT-DESC;FMTTYPE=text/html:Come join us for a Ribbon Cutting Ceremony for Quick Account Services\, LLC. (<a href="http://www.qasspace.com/">link</a>)
LOCATION:624 N. Main St.\, Ste. 101 (map) Boerne\, TX 78006
UID:e.187.11592
SEQUENCE:3
DTSTAMP:20260423T084438Z
URL:https://business.boerne.org/events/details/ribbon-cutting-for-quick-account-services-llc-11592
END:VEVENT

END:VCALENDAR
