BEGIN:VCALENDAR
VERSION:2.0
PRODID:-//ChamberMaster//Event Calendar 2.0//EN
METHOD:PUBLISH
X-PUBLISHED-TTL:P3D
REFRESH-INTERVAL:P3D
CALSCALE:GREGORIAN
BEGIN:VEVENT
DTSTART:20251205T173000Z
DTEND:20251205T180000Z
X-MICROSOFT-CDO-ALLDAYEVENT:FALSE
SUMMARY:Ribbon Cutting for Professional Therapy Services of Texas
DESCRIPTION:Join us for a ribbon cutting celebrating Professional Therapy Services of Texas!\n\n\nProfessional Therapy Services of Texas specializes in personalized\, evidence-based rehabilitation programs designed to restore function\, reduce pain\, and prevent future injury for a wide range of conditions from back and neck pain to post-surgical recovery and balance disorders. With a skilled team of physical therapists\, the clinic begins each client relationship with a comprehensive evaluation of movement patterns and medical history\, then develops a tailored treatment plan incorporating advanced techniques such as manual therapy\, dry needling\, and therapeutic exercise\, all delivered in a welcoming and supportive environment.\n\n\nWEBSITE: Physical Therapy Boerne\, TX | Professional Therapy Services\n\nPHONE: (210) 880-2748\n\nLOCATION: 34910 IH-10 West #401\, Boerne\, TX. 78006
X-ALT-DESC;FMTTYPE=text/html:<span style="color:#000000\;"><span style="font-family:arial\;">Join us for a ribbon cutting celebrating Professional Therapy Services of Texas!</span></span>\n<p style="margin:0in"><br />\n<span style="color:#000000\;">Professional Therapy Services of Texas specializes in personalized\, evidence-based rehabilitation programs designed to restore function\, reduce pain\, and prevent future injury for a wide range of conditions&mdash\;from back and neck pain to post-surgical recovery and balance disorders. With a skilled team of physical therapists\, the clinic begins each client relationship with a comprehensive evaluation of movement patterns and medical history\, then develops a tailored treatment plan incorporating advanced techniques such as manual therapy\, dry needling\, and therapeutic exercise\, all delivered in a welcoming and supportive environment.</span></p>\n<br />\n<span style="color:#000000\;"><span style="font-family:arial\;">WEBSITE:&nbsp\;</span></span><a href="https://professionaltherapypartners.com/physical-therapy-clinic/boerne-tx/">Physical Therapy Boerne\, TX | Professional Therapy Services</a><br />\n<span style="color:#000000\;"><span style="font-family:arial\;">PHONE: (210) 880-2748<br />\nLOCATION: 34910 IH-10 West #401\, Boerne\, TX. 78006</span></span>
LOCATION:Professional Therapy Services of Texas 34910 IH-10 West #401 Boerne\, TX. 78006
UID:e.187.31960
SEQUENCE:3
DTSTAMP:20260420T020607Z
URL:https://business.boerne.org/events/details/ribbon-cutting-for-professional-therapy-services-of-texas-31960
END:VEVENT

END:VCALENDAR
