BEGIN:VCALENDAR
VERSION:2.0
PRODID:-//ChamberMaster//Event Calendar 2.0//EN
METHOD:PUBLISH
X-PUBLISHED-TTL:P3D
REFRESH-INTERVAL:P3D
CALSCALE:GREGORIAN
BEGIN:VEVENT
DTSTART:20181127T193000Z
DTEND:20181127T200000Z
X-MICROSOFT-CDO-ALLDAYEVENT:FALSE
SUMMARY:Ribbon Cutting for Prestige Custom Homes
DESCRIPTION:Join us for a ribbon cutting ceremony for Prestige Custom Homes!
X-ALT-DESC;FMTTYPE=text/html:Join us for a ribbon cutting ceremony for Prestige Custom Homes!
LOCATION:40 Mariposa Parkway Boerne\, TX 78006 Located inside the Miralomas subdivision (440 State Hwy 46 W.\, Boerne\, TX 78006)
UID:e.187.15156
SEQUENCE:3
DTSTAMP:20260420T011629Z
URL:https://business.boerne.org/events/details/ribbon-cutting-for-prestige-custom-homes-15156
END:VEVENT

END:VCALENDAR
