BEGIN:VCALENDAR
VERSION:2.0
PRODID:-//ChamberMaster//Event Calendar 2.0//EN
METHOD:PUBLISH
X-PUBLISHED-TTL:P3D
REFRESH-INTERVAL:P3D
CALSCALE:GREGORIAN
BEGIN:VEVENT
DTSTART:20240913T163000Z
DTEND:20240913T170000Z
X-MICROSOFT-CDO-ALLDAYEVENT:FALSE
SUMMARY:Ribbon Cutting for Premier1 Auto Care AND Rev'd Auto Styling
DESCRIPTION:Join us for a special joint ribbon-cutting event as we celebrate the grand opening of Premier1 Auto Care and Rev'd Auto Styling at The Dominion!\n\n\n\nThis exciting occasion will feature a light lunch\, tours of our state-of-the-art facilities\, and a chance to meet their expert teams. Whether you're interested in their services or exploring their industry leading facilities\, this event is the perfect opportunity to meet the teams. Come celebrate with us and be part of this milestone in their journey!\n\n\n\nPremier1 Auto Care believes that honesty\, integrity\, and transparency are the foundations of great auto service. In the garage\, they invest in the latest tools and technology to ensure your vehicle gets the highest quality of care. Their services include A/C and heat repair\, brake repair\, cooling systems\, engine and transmission repair\, oil changes\, steering and suspension\, tires\, wheel alignment and more.\n\n\n\nWEBSITE: premier1auto.com\n\nPHONE: (210) 880-3257\n\nLOCATION: 7831 Lost Creek Gap\, Boerne\, TX 78006\n\n\n\n\n\nRev'd Auto Styling craft excellence in vehicle protection. Their passion for vehicles and commitment to excellence converge to offer unparalleled vehicle protection services. Based in Boerne\, they specialize in Paint Protection Film\, Ceramic Coating\, and Window tinting\, ensuring your vehicle not only looks its best but is also protected against the elements and the demands of daily driving.\n\n\n\nWEBSITE: revdautostyling.com\n\nPHONE: (210) 939-9308\n\nLOCATION: 7831 Lost Creek Gap\, STE B\, Boerne\, TX 78006
X-ALT-DESC;FMTTYPE=text/html:<span style="font-size:14px\;"><span style="font-family:arial\;"><span style="color:black\;">Join us for a special joint ribbon-cutting event as we celebrate the grand opening of Premier1 Auto Care and Rev&#39\;d Auto Styling at The Dominion!<br />\n<br />\nThis exciting occasion will feature a light lunch\, tours of our state-of-the-art facilities\, and a chance to meet their expert teams. Whether you&#39\;re interested in their services or exploring their industry leading facilities\, this event is the perfect opportunity to meet the teams. Come celebrate with us and be part of this milestone in their journey!</span></span></span><br />\n<br />\n<font face="arial"><span style="font-size: 14px\;"><span style="color:#000000\;">Premier1 Auto Care believes that honesty\, integrity\, and transparency are the foundations of great auto service. In the garage\, they invest in the latest tools and technology to ensure your vehicle gets the highest quality of care. Their services include A/C and heat repair\, brake repair\, cooling systems\, engine and transmission repair\, oil changes\, steering and suspension\, tires\, wheel alignment and more.<br />\n<br />\nWEBSITE:</span>&nbsp\;</span></font><a href="https://premier1auto.com/">premier1auto.com</a><br />\n<span style="color:#000000\;"><font face="arial"><span style="font-size: 14px\;">PHONE:&nbsp\;</span></font>(210) 880-3257</span><br />\n<font face="arial"><span style="font-size: 14px\;"><span style="color:#000000\;">LOCATION: 7831 Lost Creek Gap\, Boerne\, TX 78006<br />\n<br />\n<br />\nRev&#39\;d Auto Styling craft excellence in vehicle protection. Their passion for vehicles and commitment to excellence converge to offer unparalleled vehicle protection services. Based in Boerne\, they specialize in Paint Protection Film\, Ceramic Coating\, and Window tinting\, ensuring your vehicle not only looks its best but is also protected against the elements and the demands of daily driving.<br />\n<br />\nWEBSITE:</span>&nbsp\;</span></font><a href="https://revdautostyling.com/">revdautostyling.com</a><br />\n<span style="color:#000000\;"><font face="arial"><span style="font-size: 14px\;">PHONE:&nbsp\;</span></font>(210) 939-9308<br />\n<font face="arial"><span style="font-size: 14px\;">LOCATION: 7831 Lost Creek Gap\, STE B\, Boerne\, TX 78006</span></font></span>
LOCATION:Premier1 Auto Care at the Dominion 7831 Lost Creek Gap\, STE B Boerne\, TX 78006
UID:e.187.28620
SEQUENCE:3
DTSTAMP:20260419T181410Z
URL:https://business.boerne.org/events/details/ribbon-cutting-for-premier1-auto-care-and-rev-d-auto-styling-28620
END:VEVENT

END:VCALENDAR
