BEGIN:VCALENDAR
VERSION:2.0
PRODID:-//ChamberMaster//Event Calendar 2.0//EN
METHOD:PUBLISH
X-PUBLISHED-TTL:P3D
REFRESH-INTERVAL:P3D
CALSCALE:GREGORIAN
BEGIN:VEVENT
DTSTART:20251119T193000Z
DTEND:20251119T200000Z
X-MICROSOFT-CDO-ALLDAYEVENT:FALSE
SUMMARY:Ribbon Cutting for Pioneers Meats
DESCRIPTION:Join us for a ribbon cutting celebrating Pioneers Meats! \n\n\n\nFrom Southern Africa to Texas\, Pioneers Meats is bringing generations of craftsmanship and pride. Every cut reflects tradition\, gratitude\, and passion. We're excited to be celebrating their grand opening! \n\n\n\nWEBSITE: Pioneers Meats\n\nPHONE: (210) 551-6858\n\nLOCATION: 312 River Road\, Boerne\, TX. 78006
X-ALT-DESC;FMTTYPE=text/html:<span style="font-size:14px\;"><span style="font-family:arial\;"><span style="color:#000000\;">Join us for a ribbon cutting celebrating Pioneers Meats!&nbsp\;<br />\n<br />\nFrom Southern Africa to Texas\, Pioneers Meats is bringing generations of craftsmanship and pride. Every cut reflects tradition\, gratitude\, and passion. We&#39\;re excited to be celebrating their grand opening!&nbsp\;<br />\n<br />\nWEBSITE:&nbsp\;</span></span></span><a href="https://pioneersmeats.com/">Pioneers Meats</a><br />\n<span style="font-size:14px\;"><span style="font-family:arial\;"><span style="color:#000000\;">PHONE: (210) 551-6858<br />\nLOCATION: 312 River Road\, Boerne\, TX. 78006</span></span></span><br />\n<br />\n&nbsp\;
LOCATION:Pioneers Meats 312 River Road Boerne\, TX. 78006
UID:e.187.31967
SEQUENCE:3
DTSTAMP:20260420T002519Z
URL:https://business.boerne.org/events/details/ribbon-cutting-for-pioneers-meats-31967
END:VEVENT

END:VCALENDAR
