BEGIN:VCALENDAR
VERSION:2.0
PRODID:-//ChamberMaster//Event Calendar 2.0//EN
METHOD:PUBLISH
X-PUBLISHED-TTL:P3D
REFRESH-INTERVAL:P3D
CALSCALE:GREGORIAN
BEGIN:VEVENT
DTSTART:20260306T173000Z
DTEND:20260306T180000Z
X-MICROSOFT-CDO-ALLDAYEVENT:FALSE
SUMMARY:Ribbon Cutting for Pinchy's Lobster & Raw Bar
DESCRIPTION:Join us for a ribbon cutting celebrating Pinchy's Lobster & Raw Bar on Friday March 6th!  We'll have live music Friday and Saturday evening\, and our crawfish boil running all weekend long.  \n\n \n\nPinchy's Lobster & Raw Bar is a casual seafood restaurant bringing a taste of New England to the Hill Country with a menu that features fresh Maine lobster rolls\, an extensive raw bar with oysters and sushi\, all-you-can-eat crab legs\, and a variety of other seafood favorites. The relaxed eatery offers both indoor and outdoor seating\, live music and outdoor seafood boils on select  weekends\, and a New England inspired dining experience. Right on River Road overlooking Cibolo Creek\, making it a unique destination for fresh seafood and good times in the heart of Boerne.\n\n\n\nWEBSITE: Pinchy's Lobster Company - Seafood\, Lobster\, Restaurant\, Seafood\n\nPHONE: (830) 331-4133\n\nLOCATION: 250 River Road\, Boerne. TX 78006
X-ALT-DESC;FMTTYPE=text/html:<span style="font-size:14px\;"><span style="font-family:arial\;"><span style="color:#000000\;">Join us for a ribbon cutting celebrating Pinchy&#39\;s Lobster &amp\; Raw Bar on Friday March 6th!&nbsp\; We&#39\;ll have live music Friday and Saturday evening\, and our crawfish boil running all weekend long.&nbsp\;&nbsp\;<br />\n&nbsp\;<br />\nPinchy&rsquo\;s Lobster &amp\; Raw Bar is a casual seafood restaurant bringing a taste of New England to the Hill Country with a menu that features fresh Maine lobster rolls\, an extensive raw bar with oysters and sushi\, all-you-can-eat crab legs\, and a variety of other seafood favorites. The relaxed eatery offers both indoor and outdoor seating\, live music and outdoor seafood boils on select&nbsp\; weekends\, and a New England inspired dining experience. Right on River Road overlooking Cibolo Creek\, making it a unique destination for fresh seafood and good times in the heart of Boerne.</span></span></span><br />\n<br />\n<span style="color:#000000\;">WEBSITE:&nbsp\;</span><a href="https://pinchyslobsterandbeer.com/">Pinchy&#39\;s Lobster Company - Seafood\, Lobster\, Restaurant\, Seafood</a><br />\n<span style="color:#000000\;">PHONE: (830) 331-4133<br />\nLOCATION: 250 River Road\, Boerne. TX 78006</span><br />\n<br />\n<br />\n&nbsp\;
LOCATION:Pinchy's Lobster & Raw Bar 250 River Rd Boerne\, TX 78006
UID:e.187.32267
SEQUENCE:3
DTSTAMP:20260420T070844Z
URL:https://business.boerne.org/events/details/ribbon-cutting-for-pinchy-s-lobster-raw-bar-32267
END:VEVENT

END:VCALENDAR
