BEGIN:VCALENDAR
VERSION:2.0
PRODID:-//ChamberMaster//Event Calendar 2.0//EN
METHOD:PUBLISH
X-PUBLISHED-TTL:P3D
REFRESH-INTERVAL:P3D
CALSCALE:GREGORIAN
BEGIN:VEVENT
DTSTART:20190830T150000Z
DTEND:20190830T153000Z
X-MICROSOFT-CDO-ALLDAYEVENT:FALSE
SUMMARY:Ribbon Cutting for PHPL Teen Space Reopening
DESCRIPTION:Join us for a ribbon cutting celebrating the reopening of Patrick Heath Public Library's newly renovated teen space!\n\n\n\nPatrick Heath Public Library's mission is to open doors to people of diverse backgrounds and needs\; to enrich lives and equip people with unique opportunities to engage and connect in a global society.
X-ALT-DESC;FMTTYPE=text/html:Join us for a ribbon cutting celebrating the reopening of <a href="https://www.ci.boerne.tx.us/197/Library">Patrick Heath Public Library</a>&#39\;s newly renovated teen space!<br />\n<br />\nPatrick Heath Public Library&#39\;s mission is to open doors to people of diverse backgrounds and needs\; to enrich lives and equip people with unique opportunities to engage and connect in a global society.
LOCATION:Patrick Heath Public Library 451 N. Main St. Boerne\, TX 78006
UID:e.187.16736
SEQUENCE:3
DTSTAMP:20260419T175426Z
URL:https://business.boerne.org/events/details/ribbon-cutting-for-phpl-teen-space-reopening-16736
END:VEVENT

END:VCALENDAR
