BEGIN:VCALENDAR
VERSION:2.0
PRODID:-//ChamberMaster//Event Calendar 2.0//EN
METHOD:PUBLISH
X-PUBLISHED-TTL:P3D
REFRESH-INTERVAL:P3D
CALSCALE:GREGORIAN
BEGIN:VEVENT
DTSTART:20230328T163000Z
DTEND:20230328T170000Z
X-MICROSOFT-CDO-ALLDAYEVENT:FALSE
SUMMARY:Ribbon Cutting for Perspire Sauna Studio Dominion
DESCRIPTION:Join us for a ribbon cutting celebrating Perspire Sauna Studio Dominion!\n\n\n\nPerspire Sauna Studio Dominion is combining the centuries-old practice of sauna with the modern science of infrared technology and red light therapy to transform your health and wellness! These sauna sessions will help to detox the body\, burn calories\, enhance immunity\, improve sleep and more! They also offer a wellness program\, IRx\, which provides custom recommendations\, expert advice and guidance tailored specifically to you. To learn more\, become a member\, or book a session\, click here!
X-ALT-DESC;FMTTYPE=text/html:<span style="font-size:14px\;"><span style="font-family:arial\;">Join us for a ribbon cutting celebrating Perspire Sauna Studio Dominion!<br />\n<br />\nPerspire Sauna Studio Dominion is combining the centuries-old practice of sauna with the modern science of infrared technology and red light therapy to transform your health and wellness! These sauna sessions will help to detox the body\, burn calories\, enhance immunity\, improve sleep and more! They also offer a wellness program\, IRx\, which provides custom recommendations\, expert advice and guidance tailored specifically to you. To learn more\, become a member\, or book a session\, <a href="https://www.perspiresaunastudio.com/">click here!</a></span></span>
LOCATION:Perspire Sauna Studio Dominion 21803 IH 10 W.\, Ste. 108 San Antonio\, TX. 78257
UID:e.187.20726
SEQUENCE:3
DTSTAMP:20260423T084602Z
URL:https://business.boerne.org/events/details/ribbon-cutting-for-perspire-sauna-studio-dominion-20726
END:VEVENT

END:VCALENDAR
