BEGIN:VCALENDAR
VERSION:2.0
PRODID:-//ChamberMaster//Event Calendar 2.0//EN
METHOD:PUBLISH
X-PUBLISHED-TTL:P3D
REFRESH-INTERVAL:P3D
CALSCALE:GREGORIAN
BEGIN:VEVENT
DTSTART:20190409T183000Z
DTEND:20190409T190000Z
X-MICROSOFT-CDO-ALLDAYEVENT:FALSE
SUMMARY:Ribbon Cutting for OpenT.R.A.I.L. Ranch's New Barn
DESCRIPTION:Join us for a ribbon cutting celebrating OpenT.R.A.I.L. Ranch's new barn!
X-ALT-DESC;FMTTYPE=text/html:Join us for a ribbon cutting celebrating OpenT.R.A.I.L. Ranch&#39\;s new barn!
LOCATION:28710 Boerne Stage Rd. Boerne\, TX 78006
UID:e.187.16327
SEQUENCE:3
DTSTAMP:20260419T161141Z
URL:https://business.boerne.org/events/details/ribbon-cutting-for-opent-r-a-i-l-ranch-s-new-barn-16327
END:VEVENT

END:VCALENDAR
