BEGIN:VCALENDAR
VERSION:2.0
PRODID:-//ChamberMaster//Event Calendar 2.0//EN
METHOD:PUBLISH
X-PUBLISHED-TTL:P3D
REFRESH-INTERVAL:P3D
CALSCALE:GREGORIAN
BEGIN:VEVENT
DTSTART:20190129T173000Z
DTEND:20190129T180000Z
X-MICROSOFT-CDO-ALLDAYEVENT:FALSE
SUMMARY:Ribbon Cutting for Open Mortgage & M. D. Blake\, CPA
DESCRIPTION:Join us for a ribbon cutting ceremony celebrating Open Mortgage and M. D. Blake\, CPA!
X-ALT-DESC;FMTTYPE=text/html:Join us for a ribbon cutting ceremony celebrating Open Mortgage and M. D. Blake\, CPA!
LOCATION:138 Old San Antonio Rd.\, Ste. 204B Boerne\, TX 78006
UID:e.187.15314
SEQUENCE:3
DTSTAMP:20260419T210413Z
URL:https://business.boerne.org/events/details/ribbon-cutting-for-open-mortgage-m-d-blake-cpa-15314
END:VEVENT

END:VCALENDAR
