BEGIN:VCALENDAR
VERSION:2.0
PRODID:-//ChamberMaster//Event Calendar 2.0//EN
METHOD:PUBLISH
X-PUBLISHED-TTL:P3D
REFRESH-INTERVAL:P3D
CALSCALE:GREGORIAN
BEGIN:VEVENT
DTSTART:20190730T183000Z
DTEND:20190730T190000Z
X-MICROSOFT-CDO-ALLDAYEVENT:FALSE
SUMMARY:Ribbon Cutting for Old Republic Title
DESCRIPTION:Join us for a ribbon cutting celebrating Old Republic Title!\n\n\n\nFor over a century\, Old Republic Title has been insuring title for American households and commercial properties nationwide. Their unsurpassed financial strength ratings in the industry provides peace of mind to their policy holders and that financial strength positions Old Republic Title to protect Americans' property rights for years to come.
X-ALT-DESC;FMTTYPE=text/html:Join us for a ribbon cutting celebrating Old Republic Title!<br />\n<br />\nFor over a century\, Old Republic Title has been insuring title for American households and commercial properties nationwide. Their unsurpassed financial strength ratings in the industry provides peace of mind to their policy holders and that financial strength positions Old Republic Title to protect Americans&#39\; property rights for years to come.
LOCATION:Boerne Chamber of Commerce Boardroom 121 S. Main St. Boerne\, TX 78006
UID:e.187.16581
SEQUENCE:3
DTSTAMP:20260419T143446Z
URL:https://business.boerne.org/events/details/ribbon-cutting-for-old-republic-title-16581
END:VEVENT

END:VCALENDAR
