BEGIN:VCALENDAR
VERSION:2.0
PRODID:-//ChamberMaster//Event Calendar 2.0//EN
METHOD:PUBLISH
X-PUBLISHED-TTL:P3D
REFRESH-INTERVAL:P3D
CALSCALE:GREGORIAN
BEGIN:VEVENT
DTSTART:20180202T000000Z
DTEND:20180202T010000Z
X-MICROSOFT-CDO-ALLDAYEVENT:FALSE
SUMMARY:Ribbon Cutting for Northeast OB/GYN Associates New Location
DESCRIPTION:Come join us for a Ribbon Cutting for Northeast OB/GYN Associates. (link)
X-ALT-DESC;FMTTYPE=text/html:Come join us for a Ribbon Cutting for Northeast OB/GYN&nbsp\;Associates. <a href="http://ne-obgyn.com/">(link</a>)
LOCATION:New location (right behind Raising Cane's Chicken) don't go by Google maps it does not give you the correct location. 108 Waterview Parkway Boerne\, TX 78006
UID:e.187.13500
SEQUENCE:3
DTSTAMP:20260422T134932Z
URL:https://business.boerne.org/events/details/ribbon-cutting-for-northeast-ob-gyn-associates-new-location-13500
END:VEVENT

END:VCALENDAR
