BEGIN:VCALENDAR
VERSION:2.0
PRODID:-//ChamberMaster//Event Calendar 2.0//EN
METHOD:PUBLISH
X-PUBLISHED-TTL:P3D
REFRESH-INTERVAL:P3D
CALSCALE:GREGORIAN
BEGIN:VEVENT
DTSTART:20251202T193000Z
DTEND:20251202T200000Z
X-MICROSOFT-CDO-ALLDAYEVENT:FALSE
SUMMARY:Ribbon Cutting for Nissan of Boerne
DESCRIPTION:Join us for a ribbon cutting celebrating Nissan of Boerne!\nNissan of Boerne is excited to be celebrating the launch of their new car rental service! This new service allows you to rent from a variety of new Nissan vehicles\, including an Armada\, Altima\, Titan\, and more! Pickup and drop-off can all be scheduled from the comfort of your home\, through the Nissan website. \n\n\n\nThey will be serving mocktails and light hors d'oeuvres.\n\n\nWEBSITE: Nissan Dealer in Boerne\, TX | New and Used Cars for Sale\n\nPHONE: (830) 368-4600\n\nLOCATION: 31805 Interstate 10 W\, Boerne\, TX. 78006
X-ALT-DESC;FMTTYPE=text/html:<span style="color:#000000\;"><span style="font-size:14px\;">Join us for a ribbon cutting celebrating Nissan of Boerne!</span></span>\n<p style="margin:0in"><span style="color:#000000\;"><span style="font-size:14px\;"><span style="font-family:aptos\,sans-serif\;">Nissan of Boerne is excited to be celebrating the launch of their new car rental service! This new service allows you to rent from a variety of new Nissan vehicles\, including an Armada\, Altima\, Titan\, and more! Pickup and drop-off can all be scheduled from the comfort of your home\, through the Nissan website.&nbsp\;<br />\n<br />\nThey will be serving mocktails and light hors d&#39\;oeuvres.</span></span></span></p>\n<br />\n<span style="color:#000000\;"><span style="font-family:arial\;">WEBSITE:&nbsp\;</span></span><a href="https://www.nissanboerne.com/"><span style="color:#000000\;">Nissan Dealer in Boerne\, TX | New and Used Cars for Sale</span></a><br />\n<span style="color:#000000\;"><span style="font-family:arial\;">PHONE:</span><span style="font-size:14px\;"> <span style="font-family:aptos\,sans-serif\;">(830) 368-4600</span></span><br />\n<span style="font-family:arial\;">LOCATION: 31805 Interstate 10 W\, Boerne\, TX. 78006</span></span>
LOCATION:Nissan of Boerne 31805 Interstate 10 W Boerne\, TX. 78006
UID:e.187.31980
SEQUENCE:3
DTSTAMP:20260420T020930Z
URL:https://business.boerne.org/events/details/ribbon-cutting-for-nissan-of-boerne-31980
END:VEVENT

END:VCALENDAR
