BEGIN:VCALENDAR
VERSION:2.0
PRODID:-//ChamberMaster//Event Calendar 2.0//EN
METHOD:PUBLISH
X-PUBLISHED-TTL:P3D
REFRESH-INTERVAL:P3D
CALSCALE:GREGORIAN
BEGIN:VEVENT
DTSTART:20190618T183000Z
DTEND:20190618T190000Z
X-MICROSOFT-CDO-ALLDAYEVENT:FALSE
SUMMARY:Ribbon Cutting for Nana's Heart Gift Baskets & More
DESCRIPTION:Join us for a ribbon cutting celebrating Ribbon Cutting for Nana's Heart Gift Baskets & More!\n\n\n\nNana's Heart Gift Baskets & More provides custom gift baskets and gifts. They do from birthdays to baby\, bridal\, Father's Day\, and much more!
X-ALT-DESC;FMTTYPE=text/html:Join us for a ribbon cutting celebrating&nbsp\;Ribbon Cutting for Nana&#39\;s Heart Gift Baskets &amp\; More!<br />\n<br />\nNana&#39\;s Heart Gift Baskets &amp\; More provides custom gift baskets and gifts. They do from birthdays to baby\, bridal\, Father&#39\;s Day\, and much more!
LOCATION:Nana's Heart Gift Baskets & More 1001 S. Main St.\, Ste. 1 Boerne\, TX 78006
UID:e.187.16401
SEQUENCE:3
DTSTAMP:20260419T143623Z
URL:https://business.boerne.org/events/details/ribbon-cutting-for-nana-s-heart-gift-baskets-more-16401
END:VEVENT

END:VCALENDAR
