BEGIN:VCALENDAR
VERSION:2.0
PRODID:-//ChamberMaster//Event Calendar 2.0//EN
METHOD:PUBLISH
X-PUBLISHED-TTL:P3D
REFRESH-INTERVAL:P3D
CALSCALE:GREGORIAN
BEGIN:VEVENT
DTSTART:20181110T200000Z
DTEND:20181110T203000Z
X-MICROSOFT-CDO-ALLDAYEVENT:FALSE
SUMMARY:Ribbon Cutting for Männer Salon
DESCRIPTION:Join us for a Ribbon Cutting Ceremony to celebrate M nner Salon's 1 Year Anniversary!\n\n\n\nEnjoy a champagne toast and pizza from Z's Wood Fired Pizza.
X-ALT-DESC;FMTTYPE=text/html:Join us for a Ribbon Cutting Ceremony to celebrate M<span style="color: rgb(51\, 51\, 51)\; font-family: sans-serif\, Arial\, Verdana\, &quot\;Trebuchet MS&quot\;\; font-size: 13px\; background-color: rgb(255\, 255\, 255)\;">&auml\;nner Salon&#39\;s 1 Year Anniversary!</span><br />\n<br />\nEnjoy a champagne toast and pizza from <a href="https://business.boerne.org/list/member/z-s-wood-fired-pizza-llc-14507">Z&#39\;s Wood Fired Pizza</a>.
LOCATION:233 S. Main St.\, Ste. K\, Boerne\, TX 78006
UID:e.187.15103
SEQUENCE:3
DTSTAMP:20260419T235631Z
URL:https://business.boerne.org/events/details/ribbon-cutting-for-m&#228;nner-salon-15103
END:VEVENT

END:VCALENDAR
