BEGIN:VCALENDAR
VERSION:2.0
PRODID:-//ChamberMaster//Event Calendar 2.0//EN
METHOD:PUBLISH
X-PUBLISHED-TTL:P3D
REFRESH-INTERVAL:P3D
CALSCALE:GREGORIAN
BEGIN:VEVENT
DTSTART:20190919T183000Z
DTEND:20190919T190000Z
X-MICROSOFT-CDO-ALLDAYEVENT:FALSE
SUMMARY:Ribbon Cutting for Muscle Rod Shop
DESCRIPTION:Join us for a ribbon cutting celebrating Muscle Rod Shop!\n\n\n\nMuscle Rod Shop specializes in the restoration of cars of the muscle car era.
X-ALT-DESC;FMTTYPE=text/html:Join us for a ribbon cutting celebrating Muscle Rod Shop!<br />\n<br />\nMuscle Rod Shop specializes in the restoration of cars of the muscle car era.
LOCATION:30875 IH-10 W.\, Bldg. H Boerne\, TX 78006
UID:e.187.16772
SEQUENCE:3
DTSTAMP:20260419T175345Z
URL:https://business.boerne.org/events/details/ribbon-cutting-for-muscle-rod-shop-16772
END:VEVENT

END:VCALENDAR
