BEGIN:VCALENDAR
VERSION:2.0
PRODID:-//ChamberMaster//Event Calendar 2.0//EN
METHOD:PUBLISH
X-PUBLISHED-TTL:P3D
REFRESH-INTERVAL:P3D
CALSCALE:GREGORIAN
BEGIN:VEVENT
DTSTART:20251125T173000Z
DTEND:20251125T180000Z
X-MICROSOFT-CDO-ALLDAYEVENT:FALSE
SUMMARY:Ribbon Cutting for MURFIT Fitness Club
DESCRIPTION:Join us for a ribbon cutting celebrating MURFIT Fitness Club!\nMURFIT is a family-owned and operated Fitness Club in Boerne\, Texas\, dedicated to the complete development of its members mentally\, physically\, emotionally\, and spiritually.\n\n\n\nTheir 11\,000+ sq. ft. club offers 24/7 secure key-card access\, multiple training zones with premium equipment\, and a dedicated studio for dynamic classes coming soon including spin\, TRX\, kickboxing\, and more.\n\n\n\nMembers enjoy locker rooms\, showers\, massage therapy services\, and soon even an infrared/red light sauna\, cold plunge\, and a Kids Zone for parents to drop off children while they train.\n\n\n\nWhether you're a beginner or a seasoned athlete\, you'll find guidance from their personal trainers\, instructors\, and small-group coaches\, plus a safe\, welcoming community atmosphere that makes fitness fun\, motivating\, and inspiring.\n\n\nWEBSITE: www.MURFIT.com\n\nPHONE: (830) 206-0411\n\nLOCATION: 645 South School St\, Suite 301\, Boerne\, TX. 78006
X-ALT-DESC;FMTTYPE=text/html:<span style="color:#000000\;"><span style="font-size:14px\;">Join us for a ribbon cutting celebrating MURFIT Fitness Club!</span></span>\n<p style="margin:0in"><span style="color:#000000\;"><span style="font-size:14px\;"><span style="font-family:aptos\,sans-serif\;">MURFIT is a family-owned and operated Fitness Club in Boerne\, Texas\, dedicated to the complete development of its members&mdash\;mentally\, physically\, emotionally\, and spiritually.<br />\n<br />\nTheir 11\,000+ sq. ft. club offers 24/7 secure key-card access\, multiple training zones with premium equipment\, and a dedicated studio for dynamic classes coming soon including spin\, TRX\, kickboxing\, and more.<br />\n<br />\nMembers enjoy locker rooms\, showers\, massage therapy services\, and soon even an infrared/red light sauna\, cold plunge\, and a Kids Zone for parents to drop off children while they train.<br />\n<br />\nWhether you&rsquo\;re a beginner or a seasoned athlete\, you&rsquo\;ll find guidance from their personal trainers\, instructors\, and small-group coaches\, plus a safe\, welcoming community atmosphere that makes fitness fun\, motivating\, and inspiring.</span></span></span></p>\n<br />\n<span style="color:#000000\;"><span style="font-family:arial\;">WEBSITE:&nbsp\;</span></span><a href="https://murfit.com/"><span style="color:#000000\;">www.MURFIT.com</span></a><br />\n<span style="color:#000000\;"><span style="font-family:arial\;">PHONE:</span><span style="font-size:14px\;"> <span style="font-family:aptos\,sans-serif\;">(830) 206-0411</span></span><br />\n<span style="font-family:arial\;">LOCATION: 645 South School St\, Suite 301\, Boerne\, TX. 78006</span></span>
LOCATION:MURFIT 645 South School St\, Suite 301 Boerne\, TX. 78006
UID:e.187.31961
SEQUENCE:3
DTSTAMP:20260420T002836Z
URL:https://business.boerne.org/events/details/ribbon-cutting-for-murfit-fitness-club-31961
END:VEVENT

END:VCALENDAR
