BEGIN:VCALENDAR
VERSION:2.0
PRODID:-//ChamberMaster//Event Calendar 2.0//EN
METHOD:PUBLISH
X-PUBLISHED-TTL:P3D
REFRESH-INTERVAL:P3D
CALSCALE:GREGORIAN
BEGIN:VEVENT
DTSTART:20190604T163000Z
DTEND:20190604T170000Z
X-MICROSOFT-CDO-ALLDAYEVENT:FALSE
SUMMARY:Ribbon Cutting for Mr. Electric
DESCRIPTION:Join us for a ribbon cutting ceremony celebrating Mr. Electric!\n\n\n\nMr. Electric aims to maintain safety while delivering first rate service and problem solving products so that their customer's homes are safe\, secure and efficient.
X-ALT-DESC;FMTTYPE=text/html:Join us for a ribbon cutting ceremony celebrating Mr. Electric!<br />\n<br />\nMr. Electric aims to maintain safety while delivering first rate service and problem solving products so that their customer&rsquo\;s homes are safe\, secure and efficient.
LOCATION:Mr. Electric 28120 US Hwy 281 N.\, Ste. 100 San Antonio\, TX 78260
UID:e.187.16378
SEQUENCE:3
DTSTAMP:20260419T143422Z
URL:https://business.boerne.org/events/details/ribbon-cutting-for-mr-electric-16378
END:VEVENT

END:VCALENDAR
