BEGIN:VCALENDAR
VERSION:2.0
PRODID:-//ChamberMaster//Event Calendar 2.0//EN
METHOD:PUBLISH
X-PUBLISHED-TTL:P3D
REFRESH-INTERVAL:P3D
CALSCALE:GREGORIAN
BEGIN:VEVENT
DTSTART:20191001T183000Z
DTEND:20191001T190000Z
X-MICROSOFT-CDO-ALLDAYEVENT:FALSE
SUMMARY:Ribbon Cutting for Mr. Ammerman Language Travel Studies
DESCRIPTION:Join us for a ribbon cutting celebrating Mr. Ammerman Language Travel Studies!\n\n\n\nMr. Ammerman Language Travel Studies is an academy with presence in Chile and the United States that seeks to connect people interested in learning English and Spanish in native environments of each language. They believe that the practice of these languages   in their natural environments considerably improves the communication capacity of each student.
X-ALT-DESC;FMTTYPE=text/html:Join us for a ribbon cutting celebrating Mr. Ammerman Language Travel Studies!<br />\n<br />\nMr. Ammerman Language Travel Studies is an academy with presence in Chile and the United States that seeks to connect people interested in learning English and Spanish in native environments of each language. They believe that the practice of these languages &#8203\;&#8203\;in their natural environments considerably improves the communication capacity of each student.
LOCATION:114 Water Street Boerne\, TX 78006
UID:e.187.16781
SEQUENCE:3
DTSTAMP:20260419T204639Z
URL:https://business.boerne.org/events/details/ribbon-cutting-for-mr-ammerman-language-travel-studies-16781
END:VEVENT

END:VCALENDAR
