BEGIN:VCALENDAR
VERSION:2.0
PRODID:-//ChamberMaster//Event Calendar 2.0//EN
METHOD:PUBLISH
X-PUBLISHED-TTL:P3D
REFRESH-INTERVAL:P3D
CALSCALE:GREGORIAN
BEGIN:VEVENT
DTSTART:20170328T163000Z
DTEND:20170328T170000Z
X-MICROSOFT-CDO-ALLDAYEVENT:FALSE
SUMMARY:Ribbon Cutting for Montechema Firearms LLC.
DESCRIPTION:Come join us for a Ribbon Cutting Ceremony for Montechema Firearms LLC. (link)
X-ALT-DESC;FMTTYPE=text/html:Come join us for a Ribbon Cutting Ceremony for Montechema Firearms LLC. (<a href="https://www.facebook.com/montechemafirearms">link</a>)
LOCATION:101 Main St. Ste. B Boerne\, Texas 78006 Next door to the Chamber of Commerce
UID:e.187.11617
SEQUENCE:3
DTSTAMP:20260423T071448Z
URL:https://business.boerne.org/events/details/ribbon-cutting-for-montechema-firearms-llc-11617
END:VEVENT

END:VCALENDAR
