BEGIN:VCALENDAR
VERSION:2.0
PRODID:-//ChamberMaster//Event Calendar 2.0//EN
METHOD:PUBLISH
X-PUBLISHED-TTL:P3D
REFRESH-INTERVAL:P3D
CALSCALE:GREGORIAN
BEGIN:VEVENT
DTSTART:20240919T163000Z
DTEND:20240919T170000Z
X-MICROSOFT-CDO-ALLDAYEVENT:FALSE
SUMMARY:Ribbon Cutting for Mixx Consulting
DESCRIPTION:Join us for a ribbon cutting celebrating Mixx Consulting!\n\n\n\nMixx Consulting is an organization built to navigate complexities\, drive sustainable growth\, and maximize impact in today's dynamic landscape. They can also serve as your dedicate business broker\, specializing in connecting you with top-notch opportunities\, from buying and selling to strategic partnerships.\n\n\n\n\n\nWEBSITE: https://www.facebook.com/mixxconsultingusa\n\nPHONE: (830) 446-2100\n\n\n\n*This ribbon cutting will take place at The Richter Studio! The Studio is located on the first floor\, just next door to Cork & Keg.
X-ALT-DESC;FMTTYPE=text/html:<span style="color:#000000\;">Join us for a ribbon cutting celebrating Mixx Consulting!<br />\n<br />\nMixx Consulting is an organization built to navigate complexities\, drive sustainable growth\, and maximize impact in today&#39\;s dynamic landscape. They can also serve as your dedicate business broker\, specializing in connecting you with top-notch opportunities\, from buying and selling to strategic partnerships.<br />\n<br />\n<br />\nWEBSITE:</span><a href="https://www.facebook.com/mixxconsultingusa"><span style="color:#000000\;">&nbsp\;https://www.facebook.com/mixxconsultingusa</span></a><br />\n<span style="color:#000000\;">PHONE: (830) 446-2100<br />\n<br />\n*This ribbon cutting will take place at The Richter Studio! The Studio is located on the first floor\, just next door to Cork &amp\; Keg.</span>
LOCATION:Richter Boerne Studio 153 S Main St Boerne\, TX. 78006
UID:e.187.28623
SEQUENCE:3
DTSTAMP:20260419T181106Z
URL:https://business.boerne.org/events/details/ribbon-cutting-for-mixx-consulting-28623
END:VEVENT

END:VCALENDAR
