BEGIN:VCALENDAR
VERSION:2.0
PRODID:-//ChamberMaster//Event Calendar 2.0//EN
METHOD:PUBLISH
X-PUBLISHED-TTL:P3D
REFRESH-INTERVAL:P3D
CALSCALE:GREGORIAN
BEGIN:VEVENT
DTSTART:20241001T183000Z
DTEND:20241001T190000Z
X-MICROSOFT-CDO-ALLDAYEVENT:FALSE
SUMMARY:Ribbon Cutting for Mike's Vapor Shop
DESCRIPTION:Join us for a ribbon cutting celebrating Mike's Vapor Shop!\n\n\n\nMike's Vapor Shop is a small\, privately owned and operated retail shop that carries vape products\, Delta 8 and 9 products\, Hemp products\, accessories and more! With a wide\, always updating selection\, they're sure they can help you find what you need. They carry everything you need from the first time beginner to the advanced\, and they'll show you how to work everything properly and safely. \n\n\n\nWEBSITE: Mike's Vapor Shop\, Boerne | Boerne TX | Facebook\n\nPHONE: (830) 331-1200\n\nLOCATION: 1433 S Main St.\, Ste. 103\, Boerne\, TX 78006
X-ALT-DESC;FMTTYPE=text/html:<span style="color:#000000\;"><font face="arial"><span style="font-size: 14px\;">Join us for a ribbon cutting celebrating Mike&#39\;s Vapor Shop!</span><br />\n<br />\n<span style="font-size: 14px\;">Mike&#39\;s Vapor Shop is a small\, privately owned and operated retail shop that carries vape products\, Delta 8 and 9 products\, Hemp products\, accessories and more! With a wide\, always updating selection\, they&#39\;re sure they can help you find what you need. They carry everything you need from the first time beginner to the advanced\, and they&#39\;ll show you how to work everything properly and safely.&nbsp\;</span></font><br />\n<br />\nWEBSITE:&nbsp\;</span><a href="https://www.facebook.com/mikesvaporshopboerne/"><span style="color:#0000FF\;">Mike&rsquo\;s Vapor Shop\, Boerne | Boerne TX | Facebook</span></a><br />\n<span style="color:#000000\;">PHONE: (830) 331-1200<br />\nLOCATION: 1433 S Main St.\, Ste. 103\, Boerne\, TX 78006</span>
LOCATION:Mike's Vapor Shop 1433 S Main St.\, Ste 103 Boerne\, TX. 78006
UID:e.187.28654
SEQUENCE:3
DTSTAMP:20260419T163027Z
URL:https://business.boerne.org/events/details/ribbon-cutting-for-mike-s-vapor-shop-28654
END:VEVENT

END:VCALENDAR
