BEGIN:VCALENDAR
VERSION:2.0
PRODID:-//ChamberMaster//Event Calendar 2.0//EN
METHOD:PUBLISH
X-PUBLISHED-TTL:P3D
REFRESH-INTERVAL:P3D
CALSCALE:GREGORIAN
BEGIN:VEVENT
DTSTART:20230420T153000Z
DTEND:20230420T160000Z
X-MICROSOFT-CDO-ALLDAYEVENT:FALSE
SUMMARY:Ribbon Cutting for Mike's Vapor Shop
DESCRIPTION:Join us for a ribbon cutting celebrating Mike's Vapor Shop!\n\n\n\nMike's Vapor Shop is a small\, privately owned and operated retail shop that carries vape products\, Delta 8 and 9 products\, Hemp products\, accessories and more! With a wide\, always updating selection\, they're sure they can help you find what you need. They carry everything you need from the first time beginner to the advanced\, and they'll show you how to work everything properly and safely. Join us as we help them celebrate their grand re-opening!
X-ALT-DESC;FMTTYPE=text/html:<font face="arial"><span style="font-size: 14px\;">Join us for a ribbon cutting celebrating Mike&#39\;s Vapor Shop!</span><br />\n<br />\n<span style="font-size: 14px\;">Mike&#39\;s Vapor Shop is a small\, privately owned and operated retail shop that carries vape products\, Delta 8 and 9 products\, Hemp products\, accessories and more! With a wide\, always updating selection\, they&#39\;re sure they can help you find what you need. They carry everything you need from the first time beginner to the advanced\, and they&#39\;ll show you how to work everything properly and safely. Join us as we help them celebrate their grand re-opening!</span></font>
LOCATION:Mike's Vapor Shop 1433 S Main St.\, Ste 103 Boerne\, TX. 78006
UID:e.187.21466
SEQUENCE:3
DTSTAMP:20260423T102041Z
URL:https://business.boerne.org/events/details/ribbon-cutting-for-mike-s-vapor-shop-21466
END:VEVENT

END:VCALENDAR
