BEGIN:VCALENDAR
VERSION:2.0
PRODID:-//ChamberMaster//Event Calendar 2.0//EN
METHOD:PUBLISH
X-PUBLISHED-TTL:P3D
REFRESH-INTERVAL:P3D
CALSCALE:GREGORIAN
BEGIN:VEVENT
DTSTART:20180920T163000Z
DTEND:20180920T170000Z
X-MICROSOFT-CDO-ALLDAYEVENT:FALSE
SUMMARY:Ribbon Cutting for Mike Hollaway Custom Homes
DESCRIPTION:Join us for Ribbon Cutting Ceremony for Mike Hollaway Custom Homes.
X-ALT-DESC;FMTTYPE=text/html:Join us for Ribbon Cutting Ceremony for Mike Hollaway Custom Homes.&nbsp\;&nbsp\;
LOCATION:105 Lajitas Boerne\, TX 78006
UID:e.187.14892
SEQUENCE:3
DTSTAMP:20260420T030238Z
URL:https://business.boerne.org/events/details/ribbon-cutting-for-mike-hollaway-custom-homes-14892
END:VEVENT

END:VCALENDAR
