BEGIN:VCALENDAR
VERSION:2.0
PRODID:-//ChamberMaster//Event Calendar 2.0//EN
METHOD:PUBLISH
X-PUBLISHED-TTL:P3D
REFRESH-INTERVAL:P3D
CALSCALE:GREGORIAN
BEGIN:VEVENT
DTSTART:20190627T163000Z
DTEND:20190627T170000Z
X-MICROSOFT-CDO-ALLDAYEVENT:FALSE
SUMMARY:Ribbon Cutting for Medical Center Ophthalmology Associates
DESCRIPTION:Join us for a ribbon cutting celebrating the 1-year anniversary of Medical Center Ophthalmology Associates' Boerne location!\n\n\n\nWith medical eye doctors\, a retina specialist\, a pediatrics specialist\, an ophthalmic pathologist and optometrists\, Medical Center Ophthalmology Associates offers every aspect of eyecare under one roof.
X-ALT-DESC;FMTTYPE=text/html:Join us for a ribbon cutting celebrating the 1-year anniversary of Medical Center Ophthalmology Associates&#39\; Boerne location!<br />\n<br />\nWith medical eye doctors\, a retina specialist\, a pediatrics specialist\, an ophthalmic pathologist and optometrists\, Medical Center Ophthalmology Associates offers every aspect of eyecare under one roof.
LOCATION:134 Menger Springs\, Ste. 1130 Boerne\, TX 78006
UID:e.187.16411
SEQUENCE:3
DTSTAMP:20260419T130712Z
URL:https://business.boerne.org/events/details/ribbon-cutting-for-medical-center-ophthalmology-associates-16411
END:VEVENT

END:VCALENDAR
