BEGIN:VCALENDAR
VERSION:2.0
PRODID:-//ChamberMaster//Event Calendar 2.0//EN
METHOD:PUBLISH
X-PUBLISHED-TTL:P3D
REFRESH-INTERVAL:P3D
CALSCALE:GREGORIAN
BEGIN:VEVENT
DTSTART:20190822T163000Z
DTEND:20190822T170000Z
X-MICROSOFT-CDO-ALLDAYEVENT:FALSE
SUMMARY:Ribbon Cutting for McCammon & Murray\, PC
DESCRIPTION:Join us for a ribbon cutting celebrating McCammon & Murray\, PC!\n\n\n\nMcCammon & Murray focuses on business and estate planning for individuals and small to mid size businesses. They strive to use flat fee billing practices and cost conscience approaches to solving problems.
X-ALT-DESC;FMTTYPE=text/html:Join us for a ribbon cutting celebrating McCammon &amp\; Murray\, PC!<br />\n<br />\nMcCammon &amp\; Murray&nbsp\;focuses on business and estate planning for individuals and small to mid size businesses. They strive to use flat fee billing practices and cost conscience approaches to solving problems.
LOCATION:138 Old San Antonio Rd.\, Ste. 504 Boerne\, TX 78006
UID:e.187.16723
SEQUENCE:3
DTSTAMP:20260419T160703Z
URL:https://business.boerne.org/events/details/ribbon-cutting-for-mccammon-murray-pc-16723
END:VEVENT

END:VCALENDAR
