BEGIN:VCALENDAR
VERSION:2.0
PRODID:-//ChamberMaster//Event Calendar 2.0//EN
METHOD:PUBLISH
X-PUBLISHED-TTL:P3D
REFRESH-INTERVAL:P3D
CALSCALE:GREGORIAN
BEGIN:VEVENT
DTSTART:20250417T163000Z
DTEND:20250417T170000Z
X-MICROSOFT-CDO-ALLDAYEVENT:FALSE
SUMMARY:Ribbon Cutting for Martini & Company
DESCRIPTION:Join us for a ribbon cutting celebrating Martini & Company!\n\n\n\nMartini & Company is your own\, personal Italian Sommelier! They offer wine paring dinners\, pasta making classes\, fresh focaccia bread delivery\, pizza making\, food and wine consultations\, and more! Book your private\, four course dinner with a minimum of 6 guests\, and choose your own fully customizable menu\, or get creative with a fun\, handmade pasta making class!  Call or email today for a free consultation.\n\n\n\nMartini & Company is excited to be celebrating the launch of their new website!\n\n\n\nWEBSITE: Wine Sommelier | Martini And Company\n\nPHONE: (830) 428-6090
X-ALT-DESC;FMTTYPE=text/html:<span style="color:#000000\;"><font face="arial"><span style="font-size: 14px\;">Join us for a ribbon cutting celebrating Martini &amp\; Company!</span></font><br />\n<br />\n<span style="font-size:14px\;"><span style="font-family:arial\;">Martini &amp\; Company is your own\, personal Italian Sommelier! They offer wine paring dinners\, pasta making classes\, fresh focaccia bread delivery\, pizza making\, food and wine consultations\, and more! Book your private\, four course dinner with a minimum of 6 guests\, and choose your own fully customizable menu\, or get creative with a fun\, handmade pasta making class!&nbsp\; Call or email today for a free consultation.<br />\n<br />\nMartini &amp\; Company is excited to be celebrating the launch of their new website!<br />\n<br />\nWEBSITE:&nbsp\;</span></span></span><a href="https://www.martiniandcompany.com/"><span style="color:#000000\;">Wine Sommelier | Martini And Company</span></a><br />\n<span style="color:#000000\;"><span style="font-size:14px\;"><span style="font-family:arial\;">PHONE: (830) 428-6090</span></span></span><br />\n&nbsp\;
LOCATION:Greater Boerne Chamber of Commerce Boardroom 121 S Main St Boerne\, TX. 78006
UID:e.187.29238
SEQUENCE:3
DTSTAMP:20260419T143446Z
URL:https://business.boerne.org/events/details/ribbon-cutting-for-martini-company-29238
END:VEVENT

END:VCALENDAR
