BEGIN:VCALENDAR
VERSION:2.0
PRODID:-//ChamberMaster//Event Calendar 2.0//EN
METHOD:PUBLISH
X-PUBLISHED-TTL:P3D
REFRESH-INTERVAL:P3D
CALSCALE:GREGORIAN
BEGIN:VEVENT
DTSTART:20241001T163000Z
DTEND:20241001T170000Z
X-MICROSOFT-CDO-ALLDAYEVENT:FALSE
SUMMARY:Ribbon Cutting for Magnolia Psychiatry
DESCRIPTION:Join us for a ribbon cutting celebrating Magnolia Psychiatry!\n\n\n\nMagnolia Psychiatry is excited to be expanding into the Boerne area! They offer psychiatric services including assessment\, diagnosis\, and treatment for both pediatric and adult patients. They accept most major insurances\, offer in person and virtual appointments\, and have immediate openings.\n\n\n\nWEBSITE: Magnolia Psychiatry - magnoliapsychiatry.clinic - Boerne\, Texas\n\nPHONE: (281) 724-7980\n\nLOCATION: 501 E San Antonio Ave\, Boerne\, TX 78253
X-ALT-DESC;FMTTYPE=text/html:<span style="color:#000000\;">Join us for a ribbon cutting celebrating Magnolia Psychiatry!<br />\n<br />\nMagnolia Psychiatry is excited to be expanding into the Boerne area! They offer psychiatric services including assessment\, diagnosis\, and treatment for both pediatric and adult patients. They accept most major insurances\, offer in person and virtual appointments\, and have immediate openings.<br />\n<br />\nWEBSITE:</span><a href="https://www.facebook.com/mixxconsultingusa"><span style="color:#000000\;">&nbsp\;</span></a><a href="https://magnoliapsychiatry.clinic/">Magnolia Psychiatry - magnoliapsychiatry.clinic - Boerne\, Texas</a><br />\n<span style="color:#000000\;">PHONE: (281) 724-7980<br />\nLOCATION: 501 E San Antonio Ave\, Boerne\, TX 78253</span><br />\n&nbsp\;
LOCATION:Magnolia Psychiatry 501 E San Antonio Ave Boerne\, TX 78253
UID:e.187.28652
SEQUENCE:3
DTSTAMP:20260419T162830Z
URL:https://business.boerne.org/events/details/ribbon-cutting-for-magnolia-psychiatry-28652
END:VEVENT

END:VCALENDAR
