BEGIN:VCALENDAR
VERSION:2.0
PRODID:-//ChamberMaster//Event Calendar 2.0//EN
METHOD:PUBLISH
X-PUBLISHED-TTL:P3D
REFRESH-INTERVAL:P3D
CALSCALE:GREGORIAN
BEGIN:VEVENT
DTSTART:20240924T183000Z
DTEND:20240924T190000Z
X-MICROSOFT-CDO-ALLDAYEVENT:FALSE
SUMMARY:Ribbon Cutting for LOVE Kendall County Kids
DESCRIPTION:Join us for a ribbon cutting celebrating LOVE Kendall County Kids!\n\n\n\nLOVE Kendall County Kids is a 100% volunteer-driven 501c3 organization that partners with different local groups like churches\, schools\, non-profits\, local government\, civic groups\, and businesses. Collectively\, they are united by a common vision: ensuring that no child in our community faces the risk of hunger. They provide services for children who are living or attending school in Kendall County and who are on a meal program at school and/or receiving some type of public assistance.\n\n\n\nWe are celebrating the grand opening of their new food pantry!\n\n\n\nWEBSITE: LOVE Kendall County Kids (lovekckids.org)\n\nPHONE: (830) 333-9263\n\nLOCATION: 316 W Highland Dr.\, Boerne\, TX. 78006\n\n\n\nTheir new location is the where the Sister's Attic Thrift Store used to be located!
X-ALT-DESC;FMTTYPE=text/html:<span style="color:#000000\;"><span style="font-size:14px\;"><span style="font-family:arial\;">Join us for a ribbon cutting celebrating LOVE Kendall County Kids!<br />\n<br />\nLOVE Kendall County Kids is a 100% volunteer-driven 501c3 organization that partners with different local groups like churches\, schools\, non-profits\, local government\, civic groups\, and businesses. Collectively\, they are united by a common vision: ensuring that no child in our community faces the risk of hunger. They provide services for children who are living or attending school in Kendall County and who are on a meal program at school and/or receiving some type of public assistance.<br />\n<br />\nWe are celebrating the grand opening of their new food pantry!<br />\n<br />\nWEBSITE:&nbsp\;</span></span></span><a href="https://www.lovekckids.org/">LOVE Kendall County Kids (lovekckids.org)</a><br />\n<span style="color:#000000\;"><span style="font-size:14px\;"><span style="font-family:arial\;">PHONE: (830) 333-9263<br />\nLOCATION: 316 W Highland Dr.\, Boerne\, TX. 78006<br />\n<br />\nTheir new location is the where the Sister&#39\;s Attic Thrift Store used to be located!</span></span></span>
LOCATION:LOVE Kendall County Kids Food Pantry 316 W Highland Dr Boerne\, TX 78006
UID:e.187.28629
SEQUENCE:3
DTSTAMP:20260419T193308Z
URL:https://business.boerne.org/events/details/ribbon-cutting-for-love-kendall-county-kids-28629
END:VEVENT

END:VCALENDAR
