BEGIN:VCALENDAR
VERSION:2.0
PRODID:-//ChamberMaster//Event Calendar 2.0//EN
METHOD:PUBLISH
X-PUBLISHED-TTL:P3D
REFRESH-INTERVAL:P3D
CALSCALE:GREGORIAN
BEGIN:VEVENT
DTSTART:20240903T183000Z
DTEND:20240903T190000Z
X-MICROSOFT-CDO-ALLDAYEVENT:FALSE
SUMMARY:Ribbon Cutting for Lost Oak Cellars Boerne
DESCRIPTION:Join us for a ribbon cutting celebrating the grand opening of Lost Oak Cellars Boerne!\n\n\n\nA relaxing wine experience is waiting for you! Lost Oak Cellars is here to give you an unforgettable escape featuring their award-winning wines\, music\, entertainment and more. Their tasting room is nestled in Downtown Boerne's Historic District. Enjoy a tasting and entertainment with a space for private events and even a cigar room.\n\n\n\nLost Oak Cellars will be hosting a Grand Opening celebration on Saturday\, September 7th\, 2-8pm.\n\n\n\nWEBSITE: Home - Lost Oak Winery\n\nPHONE: (830) 929-7300\n\nLOCATION: 111 Rosewood Ave.\, Boerne\, TX. 78006
X-ALT-DESC;FMTTYPE=text/html:<span style="color:#000000\;"><span style="font-size:14px\;"><span style="font-family:arial\;">Join us for a ribbon cutting celebrating the grand opening of Lost Oak Cellars Boerne!<br />\n<br />\nA relaxing wine experience is waiting for you! Lost Oak Cellars is here to give you an unforgettable escape featuring their award-winning wines\, music\, entertainment and more. Their tasting room is nestled in Downtown Boerne&#39\;s Historic District. Enjoy a tasting and entertainment with a space for private events and even a cigar room.<br />\n<br />\nLost Oak Cellars will be hosting a Grand Opening celebration on Saturday\, September 7th\, 2-8pm.<br />\n<br />\nWEBSITE:&nbsp\;</span></span></span><a href="https://lostoakwinery.com/"><span style="color:#000000\;">Home - Lost Oak Winery</span></a><br />\n<span style="color:#000000\;"><span style="font-size:14px\;"><span style="font-family:arial\;">PHONE: (830) 929-7300<br />\nLOCATION: 111 Rosewood Ave.\, Boerne\, TX. 78006</span></span></span>
LOCATION:Lost Oak Cellars 111 Rosewood Ave. Boerne\, TX 78006
UID:e.187.28580
SEQUENCE:3
DTSTAMP:20260419T192804Z
URL:https://business.boerne.org/events/details/ribbon-cutting-for-lost-oak-cellars-boerne-28580
END:VEVENT

END:VCALENDAR
